BEGIN:VCALENDAR
VERSION:2.0
PRODID:-//Hire One of Chester County, PA - ECPv6.15.20//NONSGML v1.0//EN
CALSCALE:GREGORIAN
METHOD:PUBLISH
X-WR-CALNAME:Hire One of Chester County, PA
X-ORIGINAL-URL:https://hireone.ccedcpa.com
X-WR-CALDESC:Events for Hire One of Chester County, PA
REFRESH-INTERVAL;VALUE=DURATION:PT1H
X-Robots-Tag:noindex
X-PUBLISHED-TTL:PT1H
BEGIN:VTIMEZONE
TZID:UTC
BEGIN:STANDARD
TZOFFSETFROM:+0000
TZOFFSETTO:+0000
TZNAME:UTC
DTSTART:20160101T000000
END:STANDARD
END:VTIMEZONE
BEGIN:VEVENT
DTSTART;TZID=UTC:20251118T140000
DTEND;TZID=UTC:20251118T170000
DTSTAMP:20260423T232547
CREATED:20250731T193059Z
LAST-MODIFIED:20251015T191148Z
UID:10000208-1763474400-1763485200@hireone.ccedcpa.com
SUMMARY:Manufacturing and IT Job Fair at Penn State Great Valley
DESCRIPTION:REGISTER HERE \nDid you know? According to LinkedIn\, only 20% of jobs are filled through online applications. The rest? Personal connections.\nThis event is your chance to make those connections. \nJoin us at Penn State Great Valley (PSGV) in Malvern for a dynamic job fair connecting local employers with job seekers in the fields of engineering\, manufacturing\, and information technology. \nJOB SEEKERS \nAre you: \n\nA current student or recent graduate seeking internships or full-time employment?\nAn experienced professional looking for your next opportunity?\n\nThis job fair will connect you directly with employers hiring in: \n\nEngineering\, IT\, and Manufacturing\nCorporate roles in Logistics\, Finance\, HR\, and more\nShop floor positions like Warehouse Workers\, Forklift Operators\, and Assemblers\n\nCapacity is limited to 200 job seekers. Register now to secure your spot! \nEMPLOYERS \nAre you hiring for full-time roles or internships in: \n\nProduct Design Engineering\nProcess Engineering\nQuality Control\nLean Manufacturing\nSupply Chain\nData Analytics\nArtificial Intelligence\nShop Floor Operations (Machinists\, Welders\, Assemblers\, etc.)\n\nMeet candidates from Penn State University\, West Chester University\, Immaculata University\, Ursinus College\, Chester County’s Technical College High Schools\, and experienced professionals from the region. \nSpace is limited. Register for to reserve a table (up to 2 representatives per company). \nAGENDA: \n1:30 p.m. – Employer set-up \n2 :00 p.m. – Job Seeker check-in begins \n2:00 – 5:00 p.m. Job Fair (two rooms will be available at the venue to accommodate one-on-one interviews)
URL:https://hireone.ccedcpa.com/event/manufacturing-and-it-job-fair-at-penn-state-great-valley/
LOCATION:Penn State Great Valley Conference Center\, 30 E. Swedesford Road\, Malvern\, 19355\, United States
CATEGORIES:For Employers,For Job Seekers
ATTACH;FMTTYPE=image/png:https://hireone.ccedcpa.com/wp-content/uploads/2025/07/PSU-Eng-Manuf-IT-Job-Fair-eventbrite-2.png
END:VEVENT
BEGIN:VEVENT
DTSTART;TZID=UTC:20251022T113000
DTEND;TZID=UTC:20251022T130000
DTSTAMP:20260423T232547
CREATED:20250902T152014Z
LAST-MODIFIED:20250902T192429Z
UID:10000211-1761132600-1761138000@hireone.ccedcpa.com
SUMMARY:HireONE | Personal Branding for Leaders\, presented by Dr. Dom
DESCRIPTION:Helping individuals clarify and communicate their value\, presence\, and purpose within the workplace and beyond! \n*Lunch Provided \n\n\n\n\n\n\n\n\n\n\n\n\n\n\n\n\nREGISTER HERE: https://www.eventbrite.com/e/personal-branding-for-leaders-tickets-1657033414549?aff=oddtdtcreator \n\n\nWednesday\, October 22 | 11:30am – 1pm EDT\nChester County Economic Development Council\n\n737 Constitution Drive #1100 Exton\, PA 19341
URL:https://hireone.ccedcpa.com/event/personal-branding-for-leaders/
LOCATION:Chester County Economic Development Council\, 737 Constitution Drive\, Exton\, PA\, 19341\, United States
CATEGORIES:For Employers
ATTACH;FMTTYPE=image/png:https://hireone.ccedcpa.com/wp-content/uploads/2025/09/10-22-Personal-Branding-for-Leaders-Dr.-Dom-v02.png
END:VEVENT
BEGIN:VEVENT
DTSTART;TZID=UTC:20250916T083000
DTEND;TZID=UTC:20250916T100000
DTSTAMP:20260423T232547
CREATED:20250902T231951Z
LAST-MODIFIED:20250902T231951Z
UID:10000212-1758011400-1758016800@hireone.ccedcpa.com
SUMMARY:HireONE | Taskforce Meeting (September)
DESCRIPTION:
URL:https://hireone.ccedcpa.com/event/hireone-taskforce-meeting-september/
LOCATION:Chester County Economic Development Council\, 737 Constitution Drive\, Exton\, PA\, 19341\, United States
CATEGORIES:For Employers
ATTACH;FMTTYPE=image/png:https://hireone.ccedcpa.com/wp-content/uploads/2025/09/HO-Task-Force-Meeting.png
END:VEVENT
BEGIN:VEVENT
DTSTART;TZID=UTC:20250527T083000
DTEND;TZID=UTC:20250527T100000
DTSTAMP:20260423T232547
CREATED:20250424T210239Z
LAST-MODIFIED:20250508T182705Z
UID:10000203-1748334600-1748340000@hireone.ccedcpa.com
SUMMARY:HireONE Multi-Industry Morning Meet-up
DESCRIPTION:Connect with hiring managers\, network with job seekers and collaborate Across all CCEDC industry partnership areas!
URL:https://hireone.ccedcpa.com/event/hireone-multi-industry-morning-meet-up/
LOCATION:Bella Vita Coffee and Cream\, 284 Main St\, Exton\, PA\, 19425\, United States
CATEGORIES:For Employers,For Job Seekers
ATTACH;FMTTYPE=image/png:https://hireone.ccedcpa.com/wp-content/uploads/2025/04/HireONE-May-27-Flyer-02.png
END:VEVENT
BEGIN:VEVENT
DTSTART;TZID=UTC:20250521T083000
DTEND;TZID=UTC:20250521T100000
DTSTAMP:20260423T232547
CREATED:20250416T193728Z
LAST-MODIFIED:20250416T193728Z
UID:10000200-1747816200-1747821600@hireone.ccedcpa.com
SUMMARY:HireONE Task Force Meeting
DESCRIPTION:Please EMAIL kclarke@ccedcpa.com or bemery@ccedcpa.com to if interested in attending! \n\nWe are excited to invite you to our upcoming HireONE Task Force meeting\, scheduled for May 21\, 2025 from 8:30 AM to 10:00 AM at the CCEDC Building (737 Constitution Drive\, Exton\, PA). \nHireONE will provide coffee and breakfast to start our day off right. \nThe primary objective of this meeting is to plan our programming for the upcoming year. It’s always been the goal to provide as much value as possible and we are in a unique position to pivot HireONE onto a new trajectory.
URL:https://hireone.ccedcpa.com/event/hireone-task-force-meeting/
LOCATION:Chester County Economic Development Council\, 737 Constitution Drive\, Exton\, PA\, 19341\, United States
CATEGORIES:For Employers
ATTACH;FMTTYPE=image/jpeg:https://hireone.ccedcpa.com/wp-content/uploads/2025/04/HO-Task-Force-Meeting.jpg
END:VEVENT
BEGIN:VEVENT
DTSTART;TZID=UTC:20250507T080000
DTEND;TZID=UTC:20250507T103000
DTSTAMP:20260423T232547
CREATED:20250422T181008Z
LAST-MODIFIED:20250422T181236Z
UID:10000202-1746604800-1746613800@hireone.ccedcpa.com
SUMMARY:Talent Attraction Strategies Breakfast Briefing - May 7\, 2025
DESCRIPTION:A Must-Attend for Forward-Thinking Leaders! Struggling to stand out in a crowded talent market? Frustrated by the time and energy it takes to find the right people? The Talent Attraction Strategies Toolkit delivers innovative\, scalable strategies that work across industries to turn your workplace into a talent magnet. Walk away with ideas and tactics to attract\, hire\, and keep the game-changers your business needs to thrive. \nREGISTER HERE
URL:https://hireone.ccedcpa.com/event/talent-attraction-strategies-breakfast-briefing-may-7-2025/
LOCATION:Chester County Government Services\, 601 Westtown Rd\, West Chester\, PA\, 19382\, United States
CATEGORIES:For Employers
ATTACH;FMTTYPE=image/jpeg:https://hireone.ccedcpa.com/wp-content/uploads/2025/04/Employer-Toolkit-Talent-Attraction-Strategies-May-7-scaled.jpg
END:VEVENT
BEGIN:VEVENT
DTSTART;TZID=UTC:20250409T150000
DTEND;TZID=UTC:20250409T180000
DTSTAMP:20260423T232547
CREATED:20250318T185832Z
LAST-MODIFIED:20250318T185832Z
UID:10000198-1744210800-1744221600@hireone.ccedcpa.com
SUMMARY:Find Your Future Job & Internship Fair
DESCRIPTION:The Career Development Center\, Chester County Workforce Development Board\, and CareerLink\, are partnering for Find Your Future Job & Internship Fair in collaboration with the Chamber Alliance of Chester County. \nEmployers looking to connect with WCU students\, alumni and Chester County residents as job seekers are invited to attend.
URL:https://hireone.ccedcpa.com/event/find-your-future-job-internship-fair/
LOCATION:West Chester University
CATEGORIES:For Employers,For Job Seekers
ATTACH;FMTTYPE=application/pdf:https://hireone.ccedcpa.com/wp-content/uploads/2025/03/WCU-Job-Fair.pdf
END:VEVENT
BEGIN:VEVENT
DTSTART;TZID=UTC:20190605T171500
DTEND;TZID=UTC:20190605T191500
DTSTAMP:20260423T232547
CREATED:20190522T193743Z
LAST-MODIFIED:20190522T193743Z
UID:10000127-1559754900-1559762100@hireone.ccedcpa.com
SUMMARY:Hankin Group hosts Hire One Business Networking Event (Job Seeker Registration)
DESCRIPTION:This is not a job fair but rather an opportunity for area employers and local job seekers to make connections and share referrals. DID YOU KNOW — Roughly 80% of people hired are through referrals. \n  \nRegister today! – space is limited.  We expect to have 25 employers in attendance.  Industries such as manufacturing\, energy\, banking\, information technology\, financial services\, healthcare\, and more typically attend.   \n  \nHeld in one of Hankin Group’s beautiful and available office spaces.  This event has sold out in the past\, so make sure to register early!  Registration opens May 22\, 2019. \n  \nWHAT TO EXPECT: \n– Relaxed event focused on business conversations\n– Hors d’oeuvres and beverages will be served\n– Bring your business cards\n– Attire is business casual \n  \nNOTE: Due to funding provided by the state\, job seekers must provide their full name and Social Security Number on paper at check-in. The paper will be placed in a locked box for safe keeping during the event.  \nQuestions? Contact Jim Lauckner\, Hire One Sr. Project Consultant\, jlauckner@ccedcpa.com.  \nThis event is funded in part by the Chester County Workforce Development Board. 
URL:https://hireone.ccedcpa.com/event/hankin-group-hosts-hire-one-business-networking-event-job-seeker-registration/
CATEGORIES:For Job Seekers
END:VEVENT
BEGIN:VEVENT
DTSTART;TZID=UTC:20181211T171500
DTEND;TZID=UTC:20181211T191500
DTSTAMP:20260423T232547
CREATED:20181120T015407Z
LAST-MODIFIED:20181120T021535Z
UID:10000115-1544548500-1544555700@hireone.ccedcpa.com
SUMMARY:Hire One Business Networking Event at AVE Newtown Square - Job Seekers
DESCRIPTION:FREE event for Job Seekers! \nJoin us for another of our popular business networking events that bring together area employers and local job seekers. This event is unique as it is not a job fair\, but rather an opportunity to make connections and share referrals. In fact\, 80% of the people who get hired are through referrals. \nEmployers Register Today!  If you are looking to hire professional level people register today. While we expect 100 job seekers\, there are only 30 employer spots available.  With food\, beer and wine\, perhaps your hiring managers and business owners will want to attend and promote their job openings?  Please forward this invitation along. \nWhat to expect: \n\nThis is a relaxed event focused on business conversations\nHors d’oeuvres and beverages will be served\nBring your business cards (job seekers\, please leave resumes at home)\nAttire is business casual\n\nRepresentatives from a variety of industries such as energy\, banking\, information technology\, financial services\, manufacturing\, healthcare\, and more will be represented. \nATTENTION Job Seekers – This event has sold out in the past so make sure to register early! Registration for you begins November 27\, 2018. \n***Snow Date: December 12th. You will be notified by email. \nQuestions? Contact Jim Lauckner\, Hire One Sr. Project Manager\, jlauckner@ccedcpa.com. \nThis event is funded in part by the Chester County Workforce Development Board.\nNote: Due to funding provided by the state\, job seekers must provide their Full Name and Social Security Number on paper at check-in.  The paper will be placed in a locked box for safe keeping during the event. 
URL:https://hireone.ccedcpa.com/event/hire-one-business-networking-event-at-ave-newtown-square-2/
LOCATION:AVE Newtown Square\, 7000 Cornerstone Drive\, Newtown Square\, PA\, 19073\, United States
CATEGORIES:For Job Seekers
END:VEVENT
BEGIN:VEVENT
DTSTART;TZID=UTC:20181211T171500
DTEND;TZID=UTC:20181211T191500
DTSTAMP:20260423T232547
CREATED:20181120T014925Z
LAST-MODIFIED:20181120T021605Z
UID:10000114-1544548500-1544555700@hireone.ccedcpa.com
SUMMARY:Hire One Business Networking Event at AVE Newtown Square - Employers
DESCRIPTION:Join us for another of our popular business networking events that bring together area employers and local job seekers. This event is unique as it is not a job fair\, but rather an opportunity to make connections and share referrals. In fact\, 80% of the people who get hired are through referrals. \nEmployers Register Today!  If you are looking to hire professional level people register today. While we expect 100 job seekers\, there are only 30 employer spots available.  With food\, beer and wine\, perhaps your hiring managers and business owners will want to attend and promote their job openings?  Please forward this invitation along. \nWhat to expect: \n\nThis is a relaxed event focused on business conversations\nHors d’oeuvres and beverages will be served\nBring your business cards (job seekers\, please leave resumes at home)\nAttire is business casual\n\nRepresentatives from a variety of industries such as energy\, banking\, information technology\, financial services\, manufacturing\, healthcare\, and more will be represented. \nATTENTION Job Seekers – This event has sold out in the past so make sure to register early! Registration for you begins November 27\, 2018. \n***Snow Date: December 12th. You will be notified by email. \nQuestions? Contact Jim Lauckner\, Hire One Sr. Project Manager\, jlauckner@ccedcpa.com. \nThis event is funded in part by the Chester County Workforce Development Board.\nNote: Due to funding provided by the state\, job seekers must provide their Full Name and Social Security Number on paper at check-in.  The paper will be placed in a locked box for safe keeping during the event.
URL:https://hireone.ccedcpa.com/event/hire-one-business-networking-event-at-ave-newtown-square/
LOCATION:AVE Newtown Square\, 7000 Cornerstone Drive\, Newtown Square\, PA\, 19073\, United States
CATEGORIES:For Employers
END:VEVENT
BEGIN:VEVENT
DTSTART;TZID=UTC:20170829T163000
DTEND;TZID=UTC:20170829T183000
DTSTAMP:20260423T232547
CREATED:20170828T202944Z
LAST-MODIFIED:20170828T202944Z
UID:10000078-1504024200-1504031400@hireone.ccedcpa.com
SUMMARY:HireOne/ReferOne Summer Business Networking Event - For Job Seekers
DESCRIPTION:HireOne/Refer One…Making connections to find your next employer \nAre you searching for your next great job opportunity or are you willing to refer someone else to a position that is not the right fit for you? Join us to network with hiring managers who have opportunities or who could refer you \nHire One/Refer One is a highly successful business networking event where employers network with professionals looking for jobs from a variety of industries\, to provide referrals that lead to interviews and hiring opportunities.  Networking and making connections are important parts of finding any position as 80% of the people who get hired are referred into an organization. \nHere are a few of the employers expected to attend: • Saint-Gobain CertainTeed • SEI Investments • Microsoft • UGI Corporation • Monarch Staffing • USSC Group • M. Cohen and Sons • Lighthouse Vocational Services • The Vanguard Group • STP Financial Services  • The Right Company • YMCA of Greater Brandywine \nThe event is FREE but you must register in advance. Tickets are limited. Click here to register. \n\nThis is a business meeting\, not a job fair. Hors d’oeuvres and beverages will be served.\nAttire: Business Casual\nWho should attend: Jobs eekers searching for mid to high level professional positions\nType of industries:  Energy\, Information Technology\, Healthcare\, Financial Services\, Manufacturing\, and more.\nParking: The event will be held poolside at the clubhouse on your right as you turn on Woodview Way. Please do not park in front of the building. There is ample parking along the side and behind the clubhouse. Walk to the front of the clubhouse for registration.\n\nNote: Social Security number is required at check-in. \nQuestions? Contact Jim Lauckner\, Hire One Sr. Project Manager\, jlauckner@ccedcpa.com. \nThis event is funded in part by the Chester County Workforce Development Board.
URL:https://hireone.ccedcpa.com/event/hireonereferone-summer-business-networking-event-for-job-seekers/
LOCATION:AVE Malvern Clubhouse\, Woodview Way\, Malvern\, PA\, 19355\, United States
END:VEVENT
BEGIN:VEVENT
DTSTART;TZID=UTC:20170426T161500
DTEND;TZID=UTC:20170426T181500
DTSTAMP:20260423T232547
CREATED:20170412T224438Z
LAST-MODIFIED:20170418T170034Z
UID:10000075-1493223300-1493230500@hireone.ccedcpa.com
SUMMARY:HireOne/ReferOne Business Networking Event - For Job Seekers
DESCRIPTION:Are you searching for your next great job opportunity? Perhaps you know of a position that while it’s not the right fit for you\, you know someone who might be. And perhaps the hiring manager you speak with can refer you to another company. \nHire One/Refer One is a highly successful business networking event where employers network with jobseekers from a variety of industries\, to provide referrals that lead to interviews and hiring opportunities. Networking and making connections are important parts of finding a position. 80% of the people who get hired are referred into an organization. This HireOne event was built for employers (managers and recruiters) to have an opportunity to meet jobseekers from various careers who may be looking for their next opportunity as well as to build relationships and grow their network. \nHere are just a few of the employers attending:  PrimePay\, Unisys\, SEI\, Vanguard\, Monarch Staffing\, InternU\, Upper Main Line YMCA\, Franchise Advise \nThe event is FREE but you must register in advance. Tickets are limited. \nThis is a business meeting\, not a job fair. Hors d’oeuvres and beverages will be served. \nWho should attend: Jobseekers searching for mid to higher level positions. \nType of industries:  Energy\, Information Technology\, Healthcare\, Financial Services\, Manufacturing\, and more. \nIf you have any questions\, please contact Jim Lauckner\, Hire One Sr. Project Manager\, jlauckner@ccedcpa.com. \nThis event is funded in part by the Chester County Workforce Development Board.
URL:https://hireone.ccedcpa.com/event/hireonerefer-one-making-connections/
LOCATION:AVE Malvern Clubhouse\, Woodview Way\, Malvern\, PA\, 19355\, United States
CATEGORIES:For Job Seekers
END:VEVENT
BEGIN:VEVENT
DTSTART;TZID=UTC:20170328T170000
DTEND;TZID=UTC:20170328T190000
DTSTAMP:20260423T232547
CREATED:20170307T014759Z
LAST-MODIFIED:20170307T015004Z
UID:10000072-1490720400-1490727600@hireone.ccedcpa.com
SUMMARY:DVTRN Networking Event Sponsored by HireOne
DESCRIPTION:SNOW DATE – Wednesday\, March 29 \nThe Delaware Valley Total Recruiter Network (DVTRN) is organizing a Spring Launch Party for all types of recruiters and Talent Acquisition people. Corporate\, agency and staffing people of all levels of experience are welcome to this educational networking event. You must be 21 years of age to attend as alcohol will be available during the networking event. \nAgenda:\n5:00pm-5:15pm  Welcome & HireOne Intro\n5:15pm-7:00pm  Networking\, Refreshments & Deal Making \nRegistration: Pre-registration required. \nDVTRN Members $15.00\nNon-Members $45.00\nOne Year DVTRN membership and event ticket $100.00*\n*One year memberships to DVTRN cost $150. If you pre-register for this event before March 17\, 2017\, you can take advantage of this special discounted membership fee ($85) and ticket ($15) offer. \nNo ticket refunds accepted after 72 hours before the event. \nContact:\nIf you have any questions about this event\, please contact Jim Lauckner\, 215-470-2684. \nDVTRN created for all Recruiters / Talent Acquisition staff and Hiring Managers.
URL:https://hireone.ccedcpa.com/event/dvtrn-networking-event-sponsored-by-hireone/
LOCATION:AVE Malvern Clubhouse\, Woodview Way\, Malvern\, PA\, 19355\, United States
CATEGORIES:For Employers
END:VEVENT
END:VCALENDAR