BEGIN:VCALENDAR
VERSION:2.0
PRODID:-//Hire One of Chester County, PA - ECPv6.15.20//NONSGML v1.0//EN
CALSCALE:GREGORIAN
METHOD:PUBLISH
X-WR-CALNAME:Hire One of Chester County, PA
X-ORIGINAL-URL:https://hireone.ccedcpa.com
X-WR-CALDESC:Events for Hire One of Chester County, PA
REFRESH-INTERVAL;VALUE=DURATION:PT1H
X-Robots-Tag:noindex
X-PUBLISHED-TTL:PT1H
BEGIN:VTIMEZONE
TZID:UTC
BEGIN:STANDARD
TZOFFSETFROM:+0000
TZOFFSETTO:+0000
TZNAME:UTC
DTSTART:20230101T000000
END:STANDARD
END:VTIMEZONE
BEGIN:VEVENT
DTSTART;TZID=UTC:20240531T080000
DTEND;TZID=UTC:20240531T160000
DTSTAMP:20260425T080225
CREATED:20240202T224742Z
LAST-MODIFIED:20240202T224742Z
UID:10000194-1717142400-1717171200@hireone.ccedcpa.com
SUMMARY:May 31\, 2024 - FAIR CHANCE EMPLOYMENT SUMMIT - 8am-4pm with breakfast / lunch included
DESCRIPTION:This event involves training employers to adopt a fair chance workplace for individuals with prior justice system involvement. This is a great opportunity to connect with other community employers! \nLocation: CCIU Educational Service Center\, 455 Boot Road in Downingtown \nRegister for the event WWW.CCIU.ORG/FAIRCHANCE \nQuestions? Contact Jill Stoltzfus\nJillS@cciu.org | 484-237-5185
URL:https://hireone.ccedcpa.com/event/may-31-2024-fair-chance-employment-summit-8am-4pm-with-breakfast-lunch-included/
CATEGORIES:For Employers
END:VEVENT
END:VCALENDAR