BEGIN:VCALENDAR
VERSION:2.0
PRODID:-//Hire One of Chester County, PA - ECPv6.15.20//NONSGML v1.0//EN
CALSCALE:GREGORIAN
METHOD:PUBLISH
X-ORIGINAL-URL:https://hireone.ccedcpa.com
X-WR-CALDESC:Events for Hire One of Chester County, PA
REFRESH-INTERVAL;VALUE=DURATION:PT1H
X-Robots-Tag:noindex
X-PUBLISHED-TTL:PT1H
BEGIN:VTIMEZONE
TZID:UTC
BEGIN:STANDARD
TZOFFSETFROM:+0000
TZOFFSETTO:+0000
TZNAME:UTC
DTSTART:20240101T000000
END:STANDARD
END:VTIMEZONE
BEGIN:VEVENT
DTSTART;TZID=UTC:20251007T083000
DTEND;TZID=UTC:20251007T103000
DTSTAMP:20260424T062122
CREATED:20250904T215009Z
LAST-MODIFIED:20250904T225537Z
UID:10000213-1759825800-1759833000@hireone.ccedcpa.com
SUMMARY:Breakfast Briefing: Motivation and Retention Strategies
DESCRIPTION:A must-attend for forward thinking leaders! Ready to create a workplace where employees dont just stay – they thrive\, innovate and fuel your mission? From retention to innovation\, the employee experience that drives success is built with intention\, strategy\, and the right tools. We’ll show you how in this session. \nTuesday\, October 7 | 8:30AM-10:30AM\nChester County Government Services Building\n601 Westtown Rd. West Chester\, PA 19382 (Room 351) \n*No fee to attend\n*Registration required
URL:https://hireone.ccedcpa.com/event/breakfast-briefing-motivation-and-retention-strategies/
LOCATION:Chester County Government Services\, 601 Westtown Rd\, West Chester\, PA\, 19382\, United States
CATEGORIES:For Employers
ATTACH;FMTTYPE=application/pdf:https://hireone.ccedcpa.com/wp-content/uploads/2025/09/Employer-Toolkit-Flyer-Motivation-and-Retention-Strategies-8.pdf
END:VEVENT
BEGIN:VEVENT
DTSTART;VALUE=DATE:20251015
DTEND;VALUE=DATE:20251016
DTSTAMP:20260424T062122
CREATED:20250731T191858Z
LAST-MODIFIED:20250731T192018Z
UID:10000207-1760486400-1760572799@hireone.ccedcpa.com
SUMMARY:ITAG | TECH360: AI for All
DESCRIPTION:TECH360 is the Philly suburbs’ premier innovative business technology conference \nTECH360’s 2025 theme\, AI for All\, explores how AI is transforming every sector—from logistics to life sciences\, finance to education—and every role\, from frontline operations to the C-suite.
URL:https://hireone.ccedcpa.com/event/itag-tech360-ai-for-all/
CATEGORIES:For Employers
END:VEVENT
BEGIN:VEVENT
DTSTART;TZID=UTC:20251022T113000
DTEND;TZID=UTC:20251022T130000
DTSTAMP:20260424T062122
CREATED:20250902T152014Z
LAST-MODIFIED:20250902T192429Z
UID:10000211-1761132600-1761138000@hireone.ccedcpa.com
SUMMARY:HireONE | Personal Branding for Leaders\, presented by Dr. Dom
DESCRIPTION:Helping individuals clarify and communicate their value\, presence\, and purpose within the workplace and beyond! \n*Lunch Provided \n\n\n\n\n\n\n\n\n\n\n\n\n\n\n\n\nREGISTER HERE: https://www.eventbrite.com/e/personal-branding-for-leaders-tickets-1657033414549?aff=oddtdtcreator \n\n\nWednesday\, October 22 | 11:30am – 1pm EDT\nChester County Economic Development Council\n\n737 Constitution Drive #1100 Exton\, PA 19341
URL:https://hireone.ccedcpa.com/event/personal-branding-for-leaders/
LOCATION:Chester County Economic Development Council\, 737 Constitution Drive\, Exton\, PA\, 19341\, United States
CATEGORIES:For Employers
ATTACH;FMTTYPE=image/png:https://hireone.ccedcpa.com/wp-content/uploads/2025/09/10-22-Personal-Branding-for-Leaders-Dr.-Dom-v02.png
END:VEVENT
END:VCALENDAR