BEGIN:VCALENDAR
VERSION:2.0
PRODID:-//Hire One of Chester County, PA - ECPv6.15.20//NONSGML v1.0//EN
CALSCALE:GREGORIAN
METHOD:PUBLISH
X-ORIGINAL-URL:https://hireone.ccedcpa.com
X-WR-CALDESC:Events for Hire One of Chester County, PA
REFRESH-INTERVAL;VALUE=DURATION:PT1H
X-Robots-Tag:noindex
X-PUBLISHED-TTL:PT1H
BEGIN:VTIMEZONE
TZID:UTC
BEGIN:STANDARD
TZOFFSETFROM:+0000
TZOFFSETTO:+0000
TZNAME:UTC
DTSTART:20140101T000000
END:STANDARD
END:VTIMEZONE
BEGIN:VEVENT
DTSTART;TZID=UTC:20160423T090000
DTEND;TZID=UTC:20160423T160000
DTSTAMP:20260425T063216
CREATED:20160303T013114Z
LAST-MODIFIED:20160303T013114Z
UID:10000022-1461402000-1461427200@hireone.ccedcpa.com
SUMMARY:Jump Start Your Job Search Workshop
DESCRIPTION:Jump Start Your Job Search Workshop\nCo-Sponsored by Hire One \nWhen: Saturday\, April 23rd\n9:00am-4:00pm \nWhere: Church of The Saviour\n651 North Wayne Avenue\nWayne\, PA \nEvent Description:\nAn interactive day of information and ideas to provide help and hope in your job transition. Presentation topics will include:\n-Finding a Fit Not Just a Job\n-5 Social Media Must Do’s to Turbocharge Your Job Search\n-The Value of Connecting\n-Interview Like a Pro\n-Question and Answer Session with our Panel of Experts \nFor more information and to register for this event\, click here. For questions\, contact Amy Dinning at amydinning@juno.com. \n 
URL:https://hireone.ccedcpa.com/event/jump-start-your-job-search-workshop/
CATEGORIES:For Job Seekers
END:VEVENT
BEGIN:VEVENT
DTSTART;TZID=UTC:20160409T094500
DTEND;TZID=UTC:20160409T114500
DTSTAMP:20260425T063216
CREATED:20160308T014413Z
LAST-MODIFIED:20160308T014413Z
UID:10000017-1460195100-1460202300@hireone.ccedcpa.com
SUMMARY:Navigating Your Way To Re-Employment
DESCRIPTION:Navigating Your Way To Re-Employment\nPresented by Penn State Great Valley Alumni Society & My Career Transitions\n \nWhen: Saturday\, April 9th \n9:45am-11:45am \nWhere: Penn State Great Valley\n 30 East Swedesford Road\n Malvern\, PA \nMain Building – Conference Center  \nWorkshop Description: Whether you’re re-entering the job market\, recently in transition or contemplating a career move\, join us for our next engaging session featuring Alex Freund\, “the landing expert.” Alex will highlight specific steps you can take to help you land your next career opportunity. You’ll get practical advice you can implement immediately to stand apart from the competition.  \nFor more information and to register for this workshop\, click here. \n 
URL:https://hireone.ccedcpa.com/event/navigating-your-way-to-re-employment/
CATEGORIES:For Job Seekers
END:VEVENT
BEGIN:VEVENT
DTSTART;TZID=UTC:20160324T100000
DTEND;TZID=UTC:20160324T123000
DTSTAMP:20260425T063216
CREATED:20160308T013955Z
LAST-MODIFIED:20160308T013955Z
UID:10000003-1458813600-1458822600@hireone.ccedcpa.com
SUMMARY:Salary Negotiation - The Rules of the Game
DESCRIPTION:Salary Negotiation – The Rules of the Game\nPresented by Ford Myers\, Career Potential\n\nWhen: Thursday\, March 24th\n10:00am-12:30pm\nWhere: Radnor Financial Center\n150 N. Radnor-Chester Road\, Suite F-200\nRadnor\, PA 19087 \nEvent Description: Why is it that people have such a difficult time successfully negotiating their compensation? The reason we can’t or won’t negotiate is not because we’re incapable of doing so\, but rather because we just don’t know how! This is a very practical\, “real world” seminar that has always been one of our most popular programs! Invest a few hours in this event\, and make a “quantum leap” in your salary. Join us to master the rules of the salary negotiation game – a game that can actually be fun\, as well as financially rewarding! \nFor more information and to register for this event\, click here.   \n 
URL:https://hireone.ccedcpa.com/event/salary-negotiation-the-rules-of-the-game/
CATEGORIES:For Job Seekers
END:VEVENT
BEGIN:VEVENT
DTSTART;TZID=UTC:20160315T100000
DTEND;TZID=UTC:20160315T120000
DTSTAMP:20260425T063216
CREATED:20160308T013521Z
LAST-MODIFIED:20160308T013521Z
UID:10000023-1458036000-1458043200@hireone.ccedcpa.com
SUMMARY:Building Bridges & Breaking Down Barriers
DESCRIPTION:Building Bridges & Breaking Down Barriers\nPresented by PA CareerLink® – Chester County\nWhen: Tuesday\, March 15th\, 2016\n10:00am-12:00pm\nWhere: PA CareerLink Chester County\n479 Thomas Jones Way Suite 500\nExton\, PA  19341\nWorkshop Description: Habits often define the mindset of job seekers and people in job transition. Habits we have developed over a lifetime have the ability to shape how we operate individually and perceive life success opportunities. This workshop will help attendees develop strategies to break bad habits and build bridges to new and exciting good habits used by successful people in job and business circles. \nFor more information and to register for this workshop\, click here.
URL:https://hireone.ccedcpa.com/event/building-bridges-breaking-down-barriers/
CATEGORIES:For Job Seekers
END:VEVENT
BEGIN:VEVENT
DTSTART;TZID=UTC:20160312T094500
DTEND;TZID=UTC:20160312T114500
DTSTAMP:20260425T063216
CREATED:20160205T004858Z
LAST-MODIFIED:20160205T004858Z
UID:10000005-1457775900-1457783100@hireone.ccedcpa.com
SUMMARY:Stand Out In The Crowd!
DESCRIPTION:Stand Out In The Crowd!\nPresented by My Career Transitions & The Penn State Great Valley Alumni Society \nWhen: Saturday\, March 12th\, 2016\n9:45am-11:45am \nWhere: Penn State Great Valley Campus\n30 East Swedesford Road\nMalvern\, PA  19355\nMain Building – Room 130-131 \nWorkshop Description:\nEmployers today are overwhelmed with applicants but underwhelmed with talent. The reality is that in a very competitive job market\, employers are looking for solutions not warm bodies. There is an art to sharing our skills\, knowledge and expertise in a way that allows potential employers to see our immediate value. Join us for this interactive presentation where we will explore the “purple squirrel” principle\, the art of articulating value\, and connecting employer needs with transferable skills. \nFor more information about this workshop\, click here. \n 
URL:https://hireone.ccedcpa.com/event/stand-out-in-the-crowd/
CATEGORIES:For Job Seekers
END:VEVENT
BEGIN:VEVENT
DTSTART;TZID=UTC:20160224T100000
DTEND;TZID=UTC:20160224T123000
DTSTAMP:20260425T063216
CREATED:20160205T003901Z
LAST-MODIFIED:20160205T003901Z
UID:10000031-1456308000-1456317000@hireone.ccedcpa.com
SUMMARY:Get The Job You Want Even When No One's Hiring
DESCRIPTION:Get The Job You Want Even When No One’s Hiring\nPresented by Ford R. Myers\, President of Career Potential  \nWhen: Wednesday\, February 24th\, 2016\n10:00am-12:30pm \nWhere: Radnor Financial Center\n150 North Radnor-Chester Road\, Suite F-200\nRadnor\, PA  19087 \nEvent Description:\nToday’s job market is the toughest since the Great Depression\, and many of the challenges are here to stay. Even so\, you CAN get the job you want – IF you apply fresh approaches to the search. “Get The Job You Want Even When No One’s Hiring” is a powerful seminar based on Ford R. Myers’ book of the same name. Join career expert and speaker Ford R. Myers while he maps the new world of job search and reveals essential strategies for your career success! \nFor more information about this workshop\, click here. \n 
URL:https://hireone.ccedcpa.com/event/get-the-job-you-want-even-when-no-ones-hiring/
CATEGORIES:For Job Seekers
END:VEVENT
BEGIN:VEVENT
DTSTART;TZID=UTC:20160221T140000
DTEND;TZID=UTC:20160221T190000
DTSTAMP:20260425T063216
CREATED:20160205T005730Z
LAST-MODIFIED:20160205T005730Z
UID:10000025-1456063200-1456081200@hireone.ccedcpa.com
SUMMARY:Trust & Confidence - A Sunday Afternoon Retreat
DESCRIPTION:Trust & Confidence – A Sunday Afternoon  Retreat\nPresented by Joseph’s People \nWhen: Sunday\, February 21st\, 2016\n2:00pm-7:00pm \nWhere: Malvern Retreat House\n315 South Warren Avenue\nMcShain-Horstmann Family Life Center\nMalvern\, PA  19355 \nEvent Description:\nWhen we are in transition between jobs\, trust and confidence can be difficult for some of us to manage. This can be especially so for those of us who are long term unemployed or underemployed. Maria O’Leary\, a Managing Director at BlackRock (the world’s largest financial management firm)\, will be the keynote speaker at this event. Additional presentations and discussions to drill down into the specifics around trust and confidence will also be included in this event.  \nFor more information about this event\, click here.
URL:https://hireone.ccedcpa.com/event/trust-confidence-a-sunday-afternoon-retreat/
CATEGORIES:For Job Seekers
END:VEVENT
BEGIN:VEVENT
DTSTART;TZID=UTC:20160213T094500
DTEND;TZID=UTC:20160213T114500
DTSTAMP:20260425T063216
CREATED:20151208T220904Z
LAST-MODIFIED:20151208T221047Z
UID:10000041-1455356700-1455363900@hireone.ccedcpa.com
SUMMARY:Knockout Networking
DESCRIPTION:Knockout Networking\nPresented by My Career Transitions & The Penn State Great Valley Alumni Society \nWhen: Saturday\, February 13th\, 2016\n9:45am-11:45am \nWhere:\nPenn State Great Valley\n30 East Swedesford Road\nMalvern\, PA\nMain Building – Room 130/131 \nWorkshop Description:\nMost people are not born networkers – they develop these skills and confidence through education\, training\, practice and a positive attitude. Networking is the best way to create more opportunities\, and land the job! \nFor more information about this workshop\, click here.
URL:https://hireone.ccedcpa.com/event/knockout-networking/
CATEGORIES:For Job Seekers
END:VEVENT
BEGIN:VEVENT
DTSTART;TZID=UTC:20160211T144500
DTEND;TZID=UTC:20160211T154500
DTSTAMP:20260425T063216
CREATED:20160205T002930Z
LAST-MODIFIED:20160205T002944Z
UID:10000030-1455201900-1455205500@hireone.ccedcpa.com
SUMMARY:Know Before You Go - Tips To Get Inside Information Before Your Next Interview
DESCRIPTION:Know Before You Go – Tips To Get Inside Information Before Your Next Interview\nPresented by The Chester County Library \nWhen: Thursday\, February 11\, 2016\n2:45pm-3:45pm \nWhere: PA CareerLink Chester County\n479 Thomas Jones Way\, Suite #500\nExton\, PA  19341 \nWorkshop Description:\nThis workshop\, offered by the Chester County Library\, will show you how to stand out in your next job interview by using free library resources to research your potential employer. Learn how to find information about company financials\, names of key executives\, recent company news\, the company’s mission and values and more. \nTo register for this workshop\, click here. \n  \n  \n 
URL:https://hireone.ccedcpa.com/event/know-before-you-go-tips-to-get-inside-information-before-your-next-interview-2/
CATEGORIES:For Job Seekers
END:VEVENT
BEGIN:VEVENT
DTSTART;TZID=UTC:20160116T094500
DTEND;TZID=UTC:20160116T114500
DTSTAMP:20260425T063216
CREATED:20160104T222059Z
LAST-MODIFIED:20160104T222059Z
UID:10000006-1452937500-1452944700@hireone.ccedcpa.com
SUMMARY:Encouragement and Tips from Members Who Have Landed
DESCRIPTION:Encouragement and Tips from Members Who Have Landed\nPresented by My Career Transitions & Penn State University Alumni Association \nWhen: Saturday\, January 16\, 2016\n9:45am-11:45am \nWhere: Penn State University\, Great Valley Campus\n30 East Swedesford Road\nMalvern\, PA 19355 \nEvent Description:\nAttend this workshop to gain knowledge and ideas from MCT Members who have landed a job within this last year.  We will have prepared questions to ask them to gain great tips and we will have time for you to ask questions as well.  This workshop includes a 4-member panel discussion for tips about what works\, time wasters to avoid and encouraging advice from panelists who have landed a new job. \nFor more information about this workshop\, click here.
URL:https://hireone.ccedcpa.com/event/encouragement-and-tips-from-members-who-have-landed-2/
CATEGORIES:For Job Seekers
END:VEVENT
BEGIN:VEVENT
DTSTART;TZID=UTC:20160114T024500
DTEND;TZID=UTC:20160114T154500
DTSTAMP:20260425T063216
CREATED:20151208T224451Z
LAST-MODIFIED:20151208T224451Z
UID:10000035-1452739500-1452786300@hireone.ccedcpa.com
SUMMARY:Know Before You Go: Tips To Get Inside Information Before Your Next Interview
DESCRIPTION:Know Before You Go: Tips To Get Inside Information Before Your Next Interview\nFacilitated by The Chester County Library \nWhen: Thursday\, January 14\, 2016\n2:45pm-3:45pm \nWhere: PA CareerLink & United Way Financial Stability Center\n479 Thomas Jones Way – Suite 500\nExton\, PA 19341 \nWorkshop Description:\nThis workshop\, offered by Chester County Library\, will show you how to stand out in your next job interview by using free library resources to research your potential employer. Learn how to find information about company financials\, names of key executives\, recent company news\, the company’s mission and values\, and more. Arm yourself with this information in order to understand what the company is looking for in a candidate\, to better prepare you to answer interview questions\, and to present yourself in the best possible way.  \nTo register for this workshop\, click here.
URL:https://hireone.ccedcpa.com/event/know-before-you-go-tips-to-get-inside-information-before-your-next-interview/
CATEGORIES:For Job Seekers
END:VEVENT
BEGIN:VEVENT
DTSTART;TZID=UTC:20151215T090000
DTEND;TZID=UTC:20151215T120000
DTSTAMP:20260425T063216
CREATED:20151208T215550Z
LAST-MODIFIED:20151208T215841Z
UID:10000040-1450170000-1450180800@hireone.ccedcpa.com
SUMMARY:Where Do I Begin? Networking & Planning For Your Job Search
DESCRIPTION:Where Do I Begin? Networking & Planning For Your Job Search\nPresented by the Chester County Intermediate Unit \nWhen: Tuesday\, December 15th\n9:00am-12:00pm \nWhere: PA CareerLink – Chester County\n479 Thomas Jones Way\, Suite 500\nExton\, PA  19341 \nWorkshop Description:\nDo you have a plan to activate your search? A job search can be daunting\, but have no fear with this great plan! Join us to create an Individual Action Plan for your job search\, using social media and current tools to expand your reach and search options. \nTo register for this workshop\, click here. \n  \n 
URL:https://hireone.ccedcpa.com/event/where-do-i-begin-networking-planning-for-your-job-search/
CATEGORIES:For Job Seekers
END:VEVENT
BEGIN:VEVENT
DTSTART;TZID=UTC:20151214T100000
DTEND;TZID=UTC:20151214T120000
DTSTAMP:20260425T063216
CREATED:20151112T213821Z
LAST-MODIFIED:20151113T005414Z
UID:10000044-1450087200-1450094400@hireone.ccedcpa.com
SUMMARY:Developing a Personal Brand - Identifying Your Key Strengths & Talents
DESCRIPTION:Developing a Personal Brand – Identifying Your Key Strengths & Talents\nPresented by PA CareerLink® – Chester County & Full Circle Computing\n \nWhen:  Monday\, December 14th\n10:00am-12:00pm \nWhere: PA CareerLink® – Chester County\n479 Thomas Jones Way\nSuite 500\nExton\, PA 19341 \nWorkshop Description:\nIn this workshop learn how to develop your personal brand in a clear\, easy-to-understand process from a sales pro!  You will learn how to develop your unique brand\, and how to leverage a personal branding strategy to gain a clear competitive edge in your job search for the ideal position. \nTo register for this workshop\, click here. \n  \n 
URL:https://hireone.ccedcpa.com/event/developing-a-personal-brand-identifying-your-key-strengths-talents/
CATEGORIES:For Job Seekers
END:VEVENT
BEGIN:VEVENT
DTSTART;TZID=UTC:20151119T130000
DTEND;TZID=UTC:20151119T150000
DTSTAMP:20260425T063216
CREATED:20151112T210224Z
LAST-MODIFIED:20151113T010356Z
UID:10000043-1447938000-1447945200@hireone.ccedcpa.com
SUMMARY:Motivation Medicine Workshop
DESCRIPTION:Motivation Medicine Workshop –\nPresented by PA CareerLink® – Chester County and Workforce 180 \nWhen: Thursday\, November 19th\n1:00pm-3:00pm \nWhere: PA CareerLink® – Chester County\n479 Thomas Jones Way\nSuite 500\nExton\, PA 19341 \nWorkshop Description:\nLET’S GO!   If you need a boost of self-confidence; if you want to wow people; if you don’t think employers are noticing your value; if you need a pep talk…then make sure you don’t miss this workshop!  It’s 100% activity driven.  You will leave with your head high and ready to WOW everyone! WORKFORCE180\, LLC\,  is a nationally recognized organization dedicated to helping people find work. Our training workshops are never boring\, always interactive and full of learning moments to use right away in your job search. Don’t miss the chance to work with one of our facilitators and you’ll see what we mean! \nTo register for this workshop\, click here. \n  \n 
URL:https://hireone.ccedcpa.com/event/motivation-medicine-workshop/
CATEGORIES:For Job Seekers
END:VEVENT
BEGIN:VEVENT
DTSTART;TZID=UTC:20151118T100000
DTEND;TZID=UTC:20151118T123000
DTSTAMP:20260425T063216
CREATED:20151112T214850Z
LAST-MODIFIED:20151112T214902Z
UID:10000045-1447840800-1447849800@hireone.ccedcpa.com
SUMMARY:How To Stand Out In A Very Competitive Job Market
DESCRIPTION:How To Stand Out in A Very Competitive Job Market\nPresented by Ford Myers\, Career Potential \nWhen: Wednesday\, November 18th\n10:00am-12:30pm \nWhere: Radnor Financial Center\n150 Radnor-Chester Road\, Suite F-200\nRadnor\, Pa 19087 \nWorkshop Description:\nThe subtle differences in every step of the job search process determine who ultimately lands the job and who does not. This is especially true in a bad economy\, when unemployment is high and the job market is so competitive. In this dynamic workshop\, you will: \n\nLearn how to properly communicate your value to prospective employers\nMaster key strategies to help you in the job search\nDiscover tools to gain access to your target market\nGet advice on the latest resume techniques and recommended formats\nDelve into the critical pre-and post- interview planning process\n\nTo register for this workshop\, click here.
URL:https://hireone.ccedcpa.com/event/how-to-stand-out-in-a-very-competitive-job-market/
CATEGORIES:For Job Seekers
END:VEVENT
BEGIN:VEVENT
DTSTART;TZID=UTC:20151117T143000
DTEND;TZID=UTC:20151117T160000
DTSTAMP:20260425T063216
CREATED:20151112T204152Z
LAST-MODIFIED:20151112T204335Z
UID:10000042-1447770600-1447776000@hireone.ccedcpa.com
SUMMARY:Resume Writing 101Workshop
DESCRIPTION:Resume Writing 101 Workshop –\nPresented by PA CareerLink® – Chester County & Monarch Staffing \nWhen:  Tuesday\, November 17th\n2:30pm-4:00pm \nWhere: PA CareerLink Chester County\n479 Thomas Jones Way\nSuite 500\nExton\, PA 19341\n \nWorkshop Description:\nResume Writing 101 is a beginner to intermediate level workshop session that is geared to helping assist individuals optimize their marketability by providing tips for improving their resume. This Resume Writing 101 Workshop is facilitated by Laura Kasper of Monarch Staffing. \nTo register for this event\, click here. \n  \n  \n 
URL:https://hireone.ccedcpa.com/event/resume-writing-101workshop/
CATEGORIES:For Job Seekers
END:VEVENT
BEGIN:VEVENT
DTSTART;TZID=UTC:20151022T120000
DTEND;TZID=UTC:20151022T160000
DTSTAMP:20260425T063216
CREATED:20151021T193050Z
LAST-MODIFIED:20151021T193050Z
UID:10000007-1445515200-1445529600@hireone.ccedcpa.com
SUMMARY:Career & Training Expo - Sponsored by Coatesville ACTION
DESCRIPTION:Coatesville Action  Career & Training Expo \nWhen:                  Thursday\, October 22nd\n                                 12:00pm-4:00pm\nWhere:                 Lincoln University Coatesville Campus\n351 Kersey Street\nCoatesville\, PA 19320                                 \nAdmission and parking are free for this event! This event will also include free career development seminars on Wearing Your Best Attitude\, Your On-Line Presence and Networking in the Digital Age.
URL:https://hireone.ccedcpa.com/event/career-training-expo-sponsored-by-coatesville-action/
LOCATION:Lincoln University Coatesville Campus\, 351 Kersey Street\, Coatesville\, PA\, 19320\, United States
CATEGORIES:For Job Seekers
END:VEVENT
END:VCALENDAR