BEGIN:VCALENDAR
VERSION:2.0
PRODID:-//Hire One of Chester County, PA - ECPv6.15.20//NONSGML v1.0//EN
CALSCALE:GREGORIAN
METHOD:PUBLISH
X-WR-CALNAME:Hire One of Chester County, PA
X-ORIGINAL-URL:https://hireone.ccedcpa.com
X-WR-CALDESC:Events for Hire One of Chester County, PA
REFRESH-INTERVAL;VALUE=DURATION:PT1H
X-Robots-Tag:noindex
X-PUBLISHED-TTL:PT1H
BEGIN:VTIMEZONE
TZID:UTC
BEGIN:STANDARD
TZOFFSETFROM:+0000
TZOFFSETTO:+0000
TZNAME:UTC
DTSTART:20190101T000000
END:STANDARD
END:VTIMEZONE
BEGIN:VEVENT
DTSTART;TZID=UTC:20220621T143000
DTEND;TZID=UTC:20220621T173000
DTSTAMP:20260424T034713
CREATED:20220617T221701Z
LAST-MODIFIED:20220617T221746Z
UID:10000175-1655821800-1655832600@hireone.ccedcpa.com
SUMMARY:June 21\, 2022 - Coatesville Outdoor Job Fair - 2:30-5:30 p.m.
DESCRIPTION:Coatesville OUTDOOR Job Fair (**Rain Date – Thursday\, June 23rd) \nThe Job Fair is open to the public and FREE to attend! \nAre you looking for work? Are you looking for a better paying job?\nMeet with Chester County Employers who are Actively Hiring!\nCome prepared with resumes and dress professionally! \nLocation: CCIU Head Start @ Gordon Early Literacy Center \n351 Kersey Street • Coatesville\, PA\, 19320
URL:https://hireone.ccedcpa.com/event/june-21-2022-coatesville-job-fair-230-530-p-m/
CATEGORIES:For Job Seekers
END:VEVENT
BEGIN:VEVENT
DTSTART;TZID=UTC:20220603T080000
DTEND;TZID=UTC:20220603T170000
DTSTAMP:20260424T034713
CREATED:20220406T184741Z
LAST-MODIFIED:20220406T184741Z
UID:10000169-1654243200-1654275600@hireone.ccedcpa.com
SUMMARY:June 3\, 2022 - CC SHRM Event\, Performance Mgmt Conversation w/ Jonathan Segal - 7:30-9:00 a.m.
DESCRIPTION:Learn more and register for this event\, to be held at People’s Light and Theater. \nhttps://chescohra.org/meetinginfo.php?id=30&ts=1648652410
URL:https://hireone.ccedcpa.com/event/june-3-2022-cc-shrm-event-performance-mgmt-conversation-w-jonathan-segal-730-900-a-m/
CATEGORIES:For Employers
END:VEVENT
BEGIN:VEVENT
DTSTART;TZID=UTC:20220513T110000
DTEND;TZID=UTC:20220513T140000
DTSTAMP:20260424T034713
CREATED:20220414T201355Z
LAST-MODIFIED:20220414T215029Z
UID:10000171-1652439600-1652450400@hireone.ccedcpa.com
SUMMARY:May 13\, 2022 - Veterans & Families Resource Fair - 11am-2pm\, Eddyston Lighthouse Hall
DESCRIPTION:Friday\, May 13th 2022\n|\n11:00 AM – 2:00 PM\nEddystone Lighthouse Hall\n1401 9th Street Eddystone PA. 19022\nVeteran Services\, Food Bank\nResume & Employment Support\nLegal\, Financial\,\nChaplain Services and More\n**Refreshments will be available**\n***All attendees are eligible for a raffle (gift cards\, etc.)***\nhttps://tinyurl.com/VeteransFamiliesResourceFair
URL:https://hireone.ccedcpa.com/event/may-13-2022-veterans-familiesresource-fair-11am-2pm-eddyston-lighthouse-hall/
CATEGORIES:For Job Seekers
END:VEVENT
BEGIN:VEVENT
DTSTART;TZID=UTC:20220512T090000
DTEND;TZID=UTC:20220512T120000
DTSTAMP:20260424T034713
CREATED:20220426T183923Z
LAST-MODIFIED:20220426T184205Z
UID:10000172-1652346000-1652356800@hireone.ccedcpa.com
SUMMARY:May 12\, 2022 - Chester County Hospital job fair in Coatesville - 9am-12pm
DESCRIPTION:Chester County Hospital JOB FAIR \nJob Fair location: City Hall\, 1 City Hall Pl.\, Coatesville\, PA 19320 \nLearn more HERE \nSee all of their open positions and apply now HERE
URL:https://hireone.ccedcpa.com/event/may-12-2022-chester-county-hospital-job-fair-in-coatesville-9am-12pm/
CATEGORIES:For Job Seekers
END:VEVENT
BEGIN:VEVENT
DTSTART;TZID=UTC:20220510T100000
DTEND;TZID=UTC:20220510T140000
DTSTAMP:20260424T034713
CREATED:20220506T160936Z
LAST-MODIFIED:20220506T161906Z
UID:10000173-1652176800-1652191200@hireone.ccedcpa.com
SUMMARY:May 10\, 2022 - International Paper Manufacturing & Maintenance Job Fair - 10 a.m. - 2 p.m.
DESCRIPTION:International Paper is holding a job fair on May 10\, 2022 \nManufacturing & Maintenance jobs starting at $22.00 per hour with benefits. \nLocation: 4581 Lower Valley Road\, Atglen\, PA 19310
URL:https://hireone.ccedcpa.com/event/may-10-2022-international-paper-manufactruring-maintenance-job-fair-10-a-m-2-p-m/
CATEGORIES:For Job Seekers
END:VEVENT
BEGIN:VEVENT
DTSTART;TZID=UTC:20220416T084500
DTEND;TZID=UTC:20220416T123000
DTSTAMP:20260424T034713
CREATED:20220321T215141Z
LAST-MODIFIED:20220321T215141Z
UID:10000168-1650098700-1650112200@hireone.ccedcpa.com
SUMMARY:April 16\, 2022 - Virtual Jump Start Your Job  Search Workshop - 8:45 a.m.
DESCRIPTION:Please register online at https://www.eventbrite.com/e/jump-start-your-job-search-online-workshop-tickets-275314070797  and pay with a credit card. You will receive a Zoom link in order to attend the workshop. Please note that online registration will close on Friday\, April 15 at noon. \nVirtual Jump Start Your Job  \nSearch Workshop \n9:00 am – 12:15 pm (Eastern) \n Saturday\, April 16\, 2022   \nCost $5 \n—an interactive time of information and ideas to provide help and hope in your job transition and career— \nFor more information or questions\, contact Amy Dinning at amydinning@juno.com. \n 
URL:https://hireone.ccedcpa.com/event/april-16-2022-virtual-jump-start-your-job-search-workshop-845-a-m/
CATEGORIES:For Job Seekers
END:VEVENT
BEGIN:VEVENT
DTSTART;TZID=UTC:20220412T150000
DTEND;TZID=UTC:20220412T180000
DTSTAMP:20260424T034713
CREATED:20220307T232451Z
LAST-MODIFIED:20220307T232451Z
UID:10000167-1649775600-1649786400@hireone.ccedcpa.com
SUMMARY:April 12\, 2022 - Find Your Future Job & Internship Fair - 3:00-6:00 p.m.
DESCRIPTION:Find Your Future Job & Internship Fair\nTuesday\, April 12\, 2022 3-6pm in Sturzebecker Gym on South Campus\, 855 South New Street. \nThe Career Development Center at West Chester University is partnering with the Chester County Workforce Development Board and CareerLink to offer additional recruiting opportunities for our employers.  This event is open to all WCU students and alumni as well as Chester County community members.  You’ll get exposure to different education and experience levels through this event to make connections for your hiring needs.  The cost for Corporations is $200 and $75 for Non-profit and government agencies. \nhttps://app.joinhandshake.com/career_fairs/31119/employer_preview?token=CbkdQIU-8Qhdcxkksf0BBKjBKG5B0FvVLxRseUH3wB_-nZxLUlKzrg
URL:https://hireone.ccedcpa.com/event/april-12-2022-find-your-future-job-internship-fair-300-600-p-m/
CATEGORIES:For Employers
END:VEVENT
BEGIN:VEVENT
DTSTART;TZID=UTC:20220407T100000
DTEND;TZID=UTC:20220407T180000
DTSTAMP:20260424T034713
CREATED:20220406T185621Z
LAST-MODIFIED:20220406T185836Z
UID:10000170-1649325600-1649354400@hireone.ccedcpa.com
SUMMARY:April 7\, 2022 - Herr Foods Hiring Event - 10 a.m.-1p.m. and 4-6 p.m.
DESCRIPTION:Herr Foods is holding an onsite Hiring Event! \nemail Recruitment@herr.com or call 610-932-6500 to make an appointment \nhttps://www.linkedin.com/posts/lisa-griegel-2837305_hiring-event-activity-6916804607180439552-FzkR?utm_source=linkedin_share&utm_medium=member_desktop_web
URL:https://hireone.ccedcpa.com/event/april-7-2022-herr-foods-hiring-event-10-a-m-1p-m-and-4-6-p-m/
LOCATION:271 Old Baltimore Pike\, Nottingham\, PA 19362\, 271 Old Baltimore Pike\, Nottingham\, PA\, 19362\, United States
CATEGORIES:For Job Seekers
END:VEVENT
BEGIN:VEVENT
DTSTART;TZID=UTC:20220329T171500
DTEND;TZID=UTC:20220329T191500
DTSTAMP:20260424T034713
CREATED:20220307T230611Z
LAST-MODIFIED:20220309T011205Z
UID:10000166-1648574100-1648581300@hireone.ccedcpa.com
SUMMARY:March 29\, 2022 - Hire One Business Networking Event with Hankin Group - 5:15 - 7:15 p.m.
DESCRIPTION:Learn more and register! \nOur mission includes finding new and innovative ways to connect Employers and Job Seekers. Join us\, with Hankin Group\, to network uniquely. \nWhat to expect \nAfter a brief introduction\, everyone will begin networking! We expect jobs to be available in the following fields: finance\, sales\, information technology\, manufacturing and production\, energy\, healthcare\, and more. Remember – it’s not only the employers in the room\, but who they know and can introduce you to\, that is important. Beer\, wine and lite fare will be served. \nThis event is being held in one of Hankin Group’s beautiful and available office spaces!  \nThank you to Hankin Group for being our host and for providing beverages!  \nWe will follow the Chester County guidelines in effect the day of the event. \nThis event is supported by Chester County and the Commonwealth of Pennsylvania and the PA CareerLinks. \nRegistration is required.
URL:https://hireone.ccedcpa.com/event/march-29-2022-hire-one-business-networking-event-with-hankin-group-515-715-p-m/
CATEGORIES:For Employers,For Job Seekers
END:VEVENT
BEGIN:VEVENT
DTSTART;TZID=UTC:20220217T090000
DTEND;TZID=UTC:20220217T130000
DTSTAMP:20260424T034713
CREATED:20220209T003545Z
LAST-MODIFIED:20220210T195712Z
UID:10000165-1645088400-1645102800@hireone.ccedcpa.com
SUMMARY:February 17\, 2022 - Hire One Student Job Fair at Penn State Great Valley (Engineering & Manufacturing students) - 9am-1pm\, FREE
DESCRIPTION:Hire One and Penn State University have organized a Job Fair for engineering students and graduates to connect with local manufacturers. Learn more and register https://hireone_engineering_manufacturing_student_job_fair.eventbrite.com
URL:https://hireone.ccedcpa.com/event/february-17-2022-hire-one-student-job-fair-at-penn-state-great-valley-engineering-manufacturing-students-9am-1pm-free/
CATEGORIES:For Employers,For Job Seekers
END:VEVENT
BEGIN:VEVENT
DTSTART;TZID=UTC:20211016T090000
DTEND;TZID=UTC:20211016T130000
DTSTAMP:20260424T034713
CREATED:20210823T180422Z
LAST-MODIFIED:20210823T191949Z
UID:10000163-1634374800-1634389200@hireone.ccedcpa.com
SUMMARY:October 16\, 2021 - virtual Jump Start Your Job Search - 9 a.m. - 1 p.m.
DESCRIPTION:Hire One is a sponsor for the upcoming Jump Start Your Job Search that will take place virtually on Saturday\, October 16 at 9am. \nPlease register online at https://www.eventbrite.com/e/jump-start-your-job-search-online-workshop-tickets-168010773747  and pay with a credit card. You will receive a Zoom link in order to attend the workshop. Please note that online registration will close on Friday\, October 15 at noon. \nFor more information or questions\, contact Amy Dinning at amydinning@juno.com.
URL:https://hireone.ccedcpa.com/event/october-16-2021-virtual-jump-start-your-job-search-9-a-m-1-p-m/
CATEGORIES:For Job Seekers
END:VEVENT
BEGIN:VEVENT
DTSTART;TZID=UTC:20210916T090000
DTEND;TZID=UTC:20210916T100000
DTSTAMP:20260424T034713
CREATED:20210907T175718Z
LAST-MODIFIED:20210907T180027Z
UID:10000164-1631782800-1631786400@hireone.ccedcpa.com
SUMMARY:September 16\, 2021 - Chester County Employer Webinar\, Building your Talent Pipeline - 9-10am
DESCRIPTION:This program is underwritten by the PA Department of Labor and\nIndustry through Workforce Innovation and Opportunity Act funding. \nPlease go to https://register.gotowebinar.com/register/6084517443630935309 to learn more and to register.
URL:https://hireone.ccedcpa.com/event/september-16-2021-chester-county-employer-webinar-building-your-talent-pipeline-9-10am/
END:VEVENT
BEGIN:VEVENT
DTSTART;TZID=UTC:20210914T170000
DTEND;TZID=UTC:20210914T190000
DTSTAMP:20260424T034713
CREATED:20210802T182123Z
LAST-MODIFIED:20210802T185413Z
UID:10000160-1631638800-1631646000@hireone.ccedcpa.com
SUMMARY:September 14\, 2021 - Business Networking at AVE in Malvern - 5:00-7:00pm
DESCRIPTION:Hire One will hold a fully live event with beer\, wine and lite fare \nFind out more and register HERE \nHire One’s mission includes finding new and innovative ways to connect Employers and Job Seekers. \nHere is what to expect: \nAfter a brief introduction\, everyone will begin networking! We expect jobs to be available in the following fields: finance\, sales\, information technology\, manufacturing and production\, energy\, healthcare\, and more. Remember – it’s not only the employers in the room\, but who they know and can introduce you to\, that is important. Beer\, wine and lite fare will be served.  \nThank you to our sponsor AVE Malvern for hosting this event! \nThis event is supported by Chester County and the Commonwealth of Pennsylvania and the PA CareerLinks. \nRegistration is required. A CONFIRMATION EMAIL WITH PARKING INSTRUCTIONS WILL BE EMAILED TO YOU UPON COMPLETION OF REGISTRATION.  \nQuestions? Contact Jim Lauckner\, HireOne Senior Project Consultant\, jlauckner@ccedcpa.com.  \n 
URL:https://hireone.ccedcpa.com/event/september-14-2021-business-networking-at-ave-in-malvern-500-700pm/
CATEGORIES:For Employers,For Job Seekers
END:VEVENT
BEGIN:VEVENT
DTSTART;TZID=UTC:20210825T123000
DTEND;TZID=UTC:20210825T150000
DTSTAMP:20260424T034713
CREATED:20210812T004034Z
LAST-MODIFIED:20210812T004100Z
UID:10000162-1629894600-1629903600@hireone.ccedcpa.com
SUMMARY:August 25\, 2021 - Manufacturing and Trades Industry Recruitment Fair - 12:30-3pm
DESCRIPTION:Consider a career in Manufacturing and Trades! Join PA CareerLink® – Chester County at our Manufacturing and Trades Industry Recruitment Fair for your chance to connect with local employers that are ACTIVELY HIRING! \nLearn more and register for the event HERE
URL:https://hireone.ccedcpa.com/event/august-25-2021-manufacturing-and-trades-industry-recruitment-fair-1230-3pm/
CATEGORIES:For Job Seekers
END:VEVENT
BEGIN:VEVENT
DTSTART;TZID=UTC:20210812T093000
DTEND;TZID=UTC:20210812T110000
DTSTAMP:20260424T034713
CREATED:20210803T192741Z
LAST-MODIFIED:20210803T192741Z
UID:10000161-1628760600-1628766000@hireone.ccedcpa.com
SUMMARY:August 12\, 2021 - Employer Panel for Job Seekers - 9:30 AM – 11:00 AM
DESCRIPTION:The PA CareerLink of Chester County is holding an Employer Panel for Job Seekers on August 12 from 9:30-11am. \nLearn more and register HERE \nGet real feedback from Hiring Professionals on: \n\nTips on how to handle the difficult interview questions\nHow to get yourself noticed\nHow to explain gaps in your employment\nResume and Social Media Tips\nHiring Practices during COVID-19 and what accommodations they have made for their employees.\n\nPlease direct any questions to 610-280-1010
URL:https://hireone.ccedcpa.com/event/august-12-2021-employer-panel-for-job-seekers-930-am-1100-am/
CATEGORIES:For Job Seekers
END:VEVENT
BEGIN:VEVENT
DTSTART;TZID=UTC:20210616T143000
DTEND;TZID=UTC:20210616T183000
DTSTAMP:20260424T034713
CREATED:20210611T173149Z
LAST-MODIFIED:20210611T173203Z
UID:10000159-1623853800-1623868200@hireone.ccedcpa.com
SUMMARY:June 16\, 2021 - United Safety and Survivability Corp. HIRING EVENT in Exton - 2:30-6:30pm
DESCRIPTION:Meet our industry partners at United Safety & Survivability Corporation at their hiring event in Exton on June 16. \nContact them directly with questions: \nPhone: 610-265-3610\nEmail: employment@usscgroup.com \nApply online in advance and bring a copy of your resume unitedsafetycorporation.com/join-our-team/ \nhttp://ow.ly/eC8250F7Blh \nPositions available: \nProduction Assemblers\nWelders\nMachine Operators\nFacilities Manager\nProduction Line Leads\nSewing Machine Operators\nAnd More!
URL:https://hireone.ccedcpa.com/event/june-16-2021-united-safety-and-survivability-corp-hiring-event-in-exton-230-630pm/
CATEGORIES:For Job Seekers
END:VEVENT
BEGIN:VEVENT
DTSTART;TZID=UTC:20210610T140000
DTEND;TZID=UTC:20210610T160000
DTSTAMP:20260424T034713
CREATED:20210608T215545Z
LAST-MODIFIED:20210608T215545Z
UID:10000158-1623333600-1623340800@hireone.ccedcpa.com
SUMMARY:June 10\, 2021 - Addressing Solutions to the Talent Crisis - 2:00-4:00pm
DESCRIPTION:REGISTER NOW for our June 10 Meeting from 2:00-4:00 PM: Addressing Solutions to the Talent Crisis. Link to register: https://bit.ly/3g0pNGD.
URL:https://hireone.ccedcpa.com/event/june-10-2021-addressing-solutions-to-the-talent-crisis-200-400pm/
CATEGORIES:For Employers
END:VEVENT
BEGIN:VEVENT
DTSTART;TZID=UTC:20210522T100000
DTEND;TZID=UTC:20210522T150000
DTSTAMP:20260424T034713
CREATED:20210430T221308Z
LAST-MODIFIED:20210430T223723Z
UID:10000155-1621677600-1621695600@hireone.ccedcpa.com
SUMMARY:May 22 2021 - Spring Job Fair hosted by Senator Amanda Cappelletti - 10am-3pm
DESCRIPTION:Senator Amanda Cappelletti is hosting a Spring Job Fair that will take place at \nMontgomery County OIC\n1101 Arch Street\nNorristown\, PA 19401\nTo find out more and to register\, go to http://pasenatorcappelletti.com/jobfair/ \nFor questions and employer participation please contact Shae Ashe at (610) 768-4200 or at shae.ashe@pasenate.com
URL:https://hireone.ccedcpa.com/event/may-22-2021-spring-job-fair-hosted-by-senator-amanda-cappelletti-10am-3pm/
CATEGORIES:For Employers,For Job Seekers
END:VEVENT
BEGIN:VEVENT
DTSTART;TZID=UTC:20210519T090000
DTEND;TZID=UTC:20210519T120000
DTSTAMP:20260424T034713
CREATED:20210514T185701Z
LAST-MODIFIED:20210514T185954Z
UID:10000157-1621414800-1621425600@hireone.ccedcpa.com
SUMMARY:May 19\, 2021 - PA CareerLink Chester County and Hire One Recruiting event - virtual or in-person
DESCRIPTION:Meet with Employers In-Person or Virtually! \nPA CareerLink Chester County and Hire One will be hosting a recruitment event where job seekers can choose to interview  \nin-person or virtually with participating employers. \nThis event will feature several employers in the Manufacturing and Transportation related industries with dozens of well-paying jobs beginning at $15/hour with some of the employers providing sign on bonuses. \nConfirmed Employers for the event include: \n·        AGC Chemicals \n·        Cleveland-Cliffs\, Inc. \n·        IFM Efector\, Inc. \n·        Krapf’s \n·        Morgan Corporation \n·        United Safety & Survivability Corporation (USSC)* \n·        VIctory Brewing Company* \n* denotes virtual appointments only\n\n\n\n\n\n\n\n  \n\n\n\n\n\n\n\nIn-person interviews will take place at PA CareerLink Chester County in Exton: Oaklands Corporate Center\, 479 Thomas Jones Way\, Suite 500\, Exton\, PA 19341. \nVirtual interviews will take place via Zoom. \nTo reserve your interview time with an employer\, please complete the Interest Form https://forms.office.com/pages/responsepage.aspx?id=iVs1xROv1kaBxleyFWmNIafwKd9dU41JlO6N-ZQdiU9UMU5FME1XS0g0TzdYOEw1NkU0R1JHNlo4Vy4u
URL:https://hireone.ccedcpa.com/event/may-19-2021-pa-careerlink-chester-county-and-hire-one-recruiting-event-virtual-or-in-person/
CATEGORIES:For Employers,For Job Seekers
END:VEVENT
BEGIN:VEVENT
DTSTART;TZID=UTC:20210518T163000
DTEND;TZID=UTC:20210518T183000
DTSTAMP:20260424T034713
CREATED:20210407T025102Z
LAST-MODIFIED:20210430T225629Z
UID:10000154-1621355400-1621362600@hireone.ccedcpa.com
SUMMARY:May 18\, 2021 - Hire One virtual Business Networking - 4:30pm
DESCRIPTION:Register for our next Business Networking event for Employers and Job Seekers! \nTo learn more and register go to https://hire-one-business-networking-employers-may-18.eventbrite.com
URL:https://hireone.ccedcpa.com/event/may-18-2021-hire-one-virtual-business-networking-430pm/
CATEGORIES:For Employers,For Job Seekers
END:VEVENT
BEGIN:VEVENT
DTSTART;TZID=UTC:20210515T100000
DTEND;TZID=UTC:20210515T130000
DTSTAMP:20260424T034713
CREATED:20210503T230518Z
LAST-MODIFIED:20210503T230523Z
UID:10000156-1621072800-1621083600@hireone.ccedcpa.com
SUMMARY:May 15\, 2021 - Krapf School Bus recruiting event (sign on bonus!) - 10am-1pm
DESCRIPTION:Go to https://www.krapfbus.com/ to apply! There is free shuttle service from Coatesville. \nCall 484-999-2051 with any questions or email Jobs@krapfsbus.com
URL:https://hireone.ccedcpa.com/event/may-15-2021-krapf-school-bus-recruiting-event-sign-on-bonus-10am-1pm/
CATEGORIES:For Job Seekers
END:VEVENT
BEGIN:VEVENT
DTSTART;TZID=UTC:20210424T090000
DTEND;TZID=UTC:20210424T131500
DTSTAMP:20260424T034713
CREATED:20210128T005536Z
LAST-MODIFIED:20210128T005559Z
UID:10000108-1619254800-1619270100@hireone.ccedcpa.com
SUMMARY:April 24\, 2021 - Jump Start event for Job Seekers - 8:45am
DESCRIPTION:This event is sponsored in part by Hire One! \nJoin us at 8:45 a.m. for networking and the workshop will begin at 9 a.m. A link to the handouts will be provided. \nTo learn about the presenters and to register online go to https://www.eventbrite.com/e/jump-start-your-job-search-online-workshop-tickets-138171048325  and pay with a credit card. You will receive a Zoom link in order to attend the workshop. Please note that online registration will close on Friday\, April 23 at noon. \n For more information or questions\, contact Amy Dinning at amydinning@juno.com.
URL:https://hireone.ccedcpa.com/event/april-24-2021-jump-start-event-for-job-seekers-845am/
CATEGORIES:For Job Seekers
END:VEVENT
BEGIN:VEVENT
DTSTART;TZID=UTC:20210421T080000
DTEND;TZID=UTC:20210421T093000
DTSTAMP:20260424T034713
CREATED:20210407T023117Z
LAST-MODIFIED:20210407T023117Z
UID:10000153-1618992000-1618997400@hireone.ccedcpa.com
SUMMARY:April 21\, 2021 - GPVN Veteran Business Referral Network - 8am
DESCRIPTION:Hire One would like to share information about this GPVN event! Please go HERE to learn more.
URL:https://hireone.ccedcpa.com/event/april-21-2021-gpvn-veteran-business-referral-network-8am/
CATEGORIES:For Job Seekers
END:VEVENT
BEGIN:VEVENT
DTSTART;TZID=UTC:20210325T080000
DTEND;TZID=UTC:20210531T170000
DTSTAMP:20260424T034713
CREATED:20210325T220252Z
LAST-MODIFIED:20210325T220304Z
UID:10000152-1616659200-1622480400@hireone.ccedcpa.com
SUMMARY:Spring 2021 - Chester County PA CareerLink WORKSHOPS for Job Seekers
DESCRIPTION:View and Register for Workshops\, Recruitment Fairs and Special Events\nPlease see all that your PA CareerLink has to offer in Workshops this spring! \nWorkshop and Event Registration » Pennsylvania CareerLink – Chester County (pacareerlinkchesco.org)
URL:https://hireone.ccedcpa.com/event/spring-2021-chester-county-pa-careerlink-workshops-for-job-seekers/
CATEGORIES:For Job Seekers
END:VEVENT
BEGIN:VEVENT
DTSTART;TZID=UTC:20210309T163000
DTEND;TZID=UTC:20210309T183000
DTSTAMP:20260424T034713
CREATED:20210205T225350Z
LAST-MODIFIED:20210205T225446Z
UID:10000150-1615307400-1615314600@hireone.ccedcpa.com
SUMMARY:March 9\, 2021 - Hire One Virtual Business Networking Meeting - 4:30pm
DESCRIPTION:Join us for the next Business Networking Meeting via Zoom. We held the last event in December. A Registration link will be available soon! \nSee what an employer and job seeker had to say about it! \nEmployer testimonial “I just wanted to comment that tonight’s event was excellent! Very well done\, great to connect\, and I enjoyed it. Already making some connections! Thanks for allowing us to be a part of it.” \nJob Seeker testimonial “Thank you for the terrific event last night.  Great discussion and some leads\, working on setting follow up meetings as we speak.  Also valuable was the awareness of wonderful programs available. I already have a few conversations going.  I also enjoy helping others on the call.”
URL:https://hireone.ccedcpa.com/event/march-9-2021-hire-one-virtual-business-networking-meeting-430pm-2/
CATEGORIES:For Job Seekers
END:VEVENT
BEGIN:VEVENT
DTSTART;TZID=UTC:20210309T163000
DTEND;TZID=UTC:20210309T183000
DTSTAMP:20260424T034713
CREATED:20210205T220327Z
LAST-MODIFIED:20210205T225117Z
UID:10000149-1615307400-1615314600@hireone.ccedcpa.com
SUMMARY:March 9\, 2021 - Hire One Virtual Business Networking Meeting - 4:30pm
DESCRIPTION:Join us for the next Business Networking Meeting via Zoom. We held the last event in December. \nSee what an employer and job seeker had to say about it! \nEmployer testimonial “I just wanted to comment that tonight’s event was excellent! Very well done\, great to connect\, and I enjoyed it. Already making some connections! Thanks for allowing us to be a part of it.” \nJob Seeker testimonial “Thank you for the terrific event last night.  Great discussion and some leads\, working on setting follow up meetings as we speak.  Also valuable was the awareness of wonderful programs available. I already have a few conversations going.  I also enjoy helping others on the call.” \nTo learn more about this program and to register go HERE
URL:https://hireone.ccedcpa.com/event/march-9-2021-hire-one-virtual-business-networking-meeting-430pm/
CATEGORIES:For Employers
END:VEVENT
BEGIN:VEVENT
DTSTART;TZID=UTC:20210212T000000
DTEND;TZID=UTC:20210212T000000
DTSTAMP:20260424T034713
CREATED:20210205T230048Z
LAST-MODIFIED:20210205T230048Z
UID:10000151-1613088000-1613088000@hireone.ccedcpa.com
SUMMARY:Apply by February 12\, 2021 - Manufacturing Boot Camp Program through Chester County
DESCRIPTION:The PA CareerLink® Chester County and the Chester County Workforce Development Board are sponsoring a Manufacturing Boot Camp for anyone seeking a rewarding career opportunity in the Manufacturing Industry. The Manufacturing Boot Camp begins February 15\, 2021. \nThis program includes a three week virtual training boot camp with a half day of training\, Monday through Friday. Students will have access to supportive services\, intensive career coaching\, and referrals to career opportunities with manufacturing employers upon completion of the boot camp. \nEligible participants should: \n·        Possess a high school diploma or GED \n·        Pass the Bennett Mechanical Comprehension Test \n·        Pass a drug screening \n·        Participate in a pre-screening interview with staff \nTo apply by February 12\, 2021 or for more information\, please call 610-280-1062 or email rspatichia@edsisolutions.com.
URL:https://hireone.ccedcpa.com/event/apply-by-february-12-2021-manufacturing-boot-camp-program-through-chester-county/
CATEGORIES:For Employers,For Job Seekers
END:VEVENT
BEGIN:VEVENT
DTSTART;TZID=UTC:20201216T163000
DTEND;TZID=UTC:20201216T184000
DTSTAMP:20260424T034713
CREATED:20201207T231350Z
LAST-MODIFIED:20201207T231357Z
UID:10000106-1608136200-1608144000@hireone.ccedcpa.com
SUMMARY:December 16\, 2020 - Hire One's online Business Networking event - 4:30pm - 6:40pm
DESCRIPTION:Job Seeker registration will be live soon! Please hold-the-date and check back for registration link! \nDecember\, like summer\, is one of the best times to look for a new position! Budgets and new positions have been approved for the new year and many companies want to have positions filled asap\, as the new year begins. As per a search done 12/4 on Indeed there are 39\,935 jobs posted within 25 miles of Exton\, PA https://www.indeed.com/jobs?q=&l=Exton%2C+PA&radius=25 NOW is the time to meet and speak with employers before the rush of additional Job Seeker ‘ after the holidays’. \nHIRE ONE will have employers which are looking to hire\, participate in a virtual BUSINESS NETWORKING meeting on December 16th from 4:30 – 6:40 PM. You must register to participate in this event. This will not be a Job Fair but rather an opportunity to network and share referrals with employers and other professionals. 80% of people who get the offer were referred into the company. The cold online application accounts for only 8% of jobs filled. Come shared your network and meet people willing to refer you to their connections as well. \nAfter a brief introduction\, everyone will break into small “rooms’ with aa mixture of employers and Job Seekers. The overall number of attendees will determine the number of rooms but this process will be repeated 4 times during the event so you will get to meet numerous employers. As in past live events we expect jobs to be available in the following fields and more. Financial\, Sales\, Information Technology\, Manufacturing and Production\, Energy\, Healthcare\, Services\, and others. Remember it’s not only the employers in the room but who they know and can introduce you to. \nNo resumes required nor allowed! Just polish up your elevator pitch and bring your contacts to share with you.
URL:https://hireone.ccedcpa.com/event/december-16-2020-hire-ones-online-business-networking-event-430pm-640pm-2/
CATEGORIES:For Job Seekers
END:VEVENT
BEGIN:VEVENT
DTSTART;TZID=UTC:20201216T163000
DTEND;TZID=UTC:20201216T184000
DTSTAMP:20260424T034713
CREATED:20201207T230934Z
LAST-MODIFIED:20201207T230957Z
UID:10000104-1608136200-1608144000@hireone.ccedcpa.com
SUMMARY:December 16\, 2020 - Hire One's online Business Networking event - 4:30pm - 6:40pm
DESCRIPTION:Employer registration is open for the next Hire One Business Networking event (virtual). \nLearn more and register HERE \nLooking to hire experienced professional level people? \nThis is not a job fair but rather an opportunity for area employers and local job seekers to make connections virtually and share referrals.  \nDID YOU KNOW? Roughly 80% of people hired are through referrals.
URL:https://hireone.ccedcpa.com/event/december-16-2020-hire-ones-online-business-networking-event-430pm-640pm/
CATEGORIES:For Employers
END:VEVENT
BEGIN:VEVENT
DTSTART;TZID=UTC:20201031T090000
DTEND;TZID=UTC:20201031T130000
DTSTAMP:20260424T034713
CREATED:20200911T231941Z
LAST-MODIFIED:20200911T232001Z
UID:10000100-1604134800-1604149200@hireone.ccedcpa.com
SUMMARY:October 31\, 2020 - VIRTUAL Jump Start Your Job Search - 9 a.m. – 1 p.m.
DESCRIPTION:Join an an interactive day of information and ideas to provide help and hope in your job transition and career. For more information and to register\, go HERE
URL:https://hireone.ccedcpa.com/event/october-31-2020-virtual-jump-start-your-job-search-9-a-m-1-p-m/
CATEGORIES:For Job Seekers
END:VEVENT
END:VCALENDAR