BEGIN:VCALENDAR
VERSION:2.0
PRODID:-//Hire One of Chester County, PA - ECPv6.15.20//NONSGML v1.0//EN
CALSCALE:GREGORIAN
METHOD:PUBLISH
X-WR-CALNAME:Hire One of Chester County, PA
X-ORIGINAL-URL:https://hireone.ccedcpa.com
X-WR-CALDESC:Events for Hire One of Chester County, PA
REFRESH-INTERVAL;VALUE=DURATION:PT1H
X-Robots-Tag:noindex
X-PUBLISHED-TTL:PT1H
BEGIN:VTIMEZONE
TZID:UTC
BEGIN:STANDARD
TZOFFSETFROM:+0000
TZOFFSETTO:+0000
TZNAME:UTC
DTSTART:20220101T000000
END:STANDARD
END:VTIMEZONE
BEGIN:VEVENT
DTSTART;TZID=UTC:20230309T080000
DTEND;TZID=UTC:20230309T170000
DTSTAMP:20260425T235014
CREATED:20230309T223825Z
LAST-MODIFIED:20230309T223825Z
UID:10000185-1678348800-1678381200@hireone.ccedcpa.com
SUMMARY:March 25\, 2023 - A Path to Hope's 5th Annual Mental Health Resource Fair
DESCRIPTION:This event is being held at Lionville Middle School. https://apathtohope.org/
URL:https://hireone.ccedcpa.com/event/march-25-2023-a-path-to-hopes-5th-annual-mental-health-resource-fair/
CATEGORIES:For Job Seekers
END:VEVENT
BEGIN:VEVENT
DTSTART;TZID=UTC:20230314T100000
DTEND;TZID=UTC:20230314T150000
DTSTAMP:20260425T235014
CREATED:20230213T205312Z
LAST-MODIFIED:20230213T210200Z
UID:10000184-1678788000-1678806000@hireone.ccedcpa.com
SUMMARY:March 14\, 2023 - Job Support Fair - One-on-One Help - 10am-3pm
DESCRIPTION:In partnership with Hire One\, the Chester County Library is hosting a Job Support Fair. \nReceive one-on-one help\, attend workshops and more. \nLearn more about this offering and register https://ccls.libcal.com/event/10335987
URL:https://hireone.ccedcpa.com/event/march-14-2023-job-support-fair-one-on-one-help-10am-3pm/
CATEGORIES:For Job Seekers
END:VEVENT
END:VCALENDAR