BEGIN:VCALENDAR
VERSION:2.0
PRODID:-//Hire One of Chester County, PA - ECPv6.15.20//NONSGML v1.0//EN
CALSCALE:GREGORIAN
METHOD:PUBLISH
X-ORIGINAL-URL:https://hireone.ccedcpa.com
X-WR-CALDESC:Events for Hire One of Chester County, PA
REFRESH-INTERVAL;VALUE=DURATION:PT1H
X-Robots-Tag:noindex
X-PUBLISHED-TTL:PT1H
BEGIN:VTIMEZONE
TZID:UTC
BEGIN:STANDARD
TZOFFSETFROM:+0000
TZOFFSETTO:+0000
TZNAME:UTC
DTSTART:20220101T000000
END:STANDARD
END:VTIMEZONE
BEGIN:VEVENT
DTSTART;TZID=UTC:20230622T170000
DTEND;TZID=UTC:20230622T190000
DTSTAMP:20260425T192639
CREATED:20230522T192902Z
LAST-MODIFIED:20230522T202447Z
UID:10000188-1687453200-1687460400@hireone.ccedcpa.com
SUMMARY:June 22\, 2023 - Hire One Business Networking at CCEDC\, Exton - 5:00 - 7:00PM
DESCRIPTION:<<REGISTER>>\nOur mission includes finding new and innovative ways to connect employers and job seekers – join us for this networking event! \nEmployers \nThis business networking event provides employers with referrals to help fill your professional level job openings. Please register today using the EMPLOYER TICKET as spots are limited. \nJob Seekers  \nAre you tired of the black hole of internet sites and portals? This networking event will put you face to face with employers who are hiring experienced professionals. It is not simply who is in the room\, but who they know! \nThis is not a job fair and no resumes are allowed. Have your elevator pitch ready and be willing to share your connections for the jobs that are not a match for you. NOW is one of the best times to look for a new position!  \nPlease register today using the JOB SEEKER TICKET.
URL:https://hireone.ccedcpa.com/event/june-22-2023-hire-one-business-networking-at-ccedc-exton-500-700pm/
LOCATION:Chester County Economic Development Council\, 737 Constitution Drive\, Exton\, PA\, 19341\, United States
CATEGORIES:For Employers,For Job Seekers
END:VEVENT
END:VCALENDAR