BEGIN:VCALENDAR
VERSION:2.0
PRODID:-//Hire One of Chester County, PA - ECPv6.15.20//NONSGML v1.0//EN
CALSCALE:GREGORIAN
METHOD:PUBLISH
X-ORIGINAL-URL:https://hireone.ccedcpa.com
X-WR-CALDESC:Events for Hire One of Chester County, PA
REFRESH-INTERVAL;VALUE=DURATION:PT1H
X-Robots-Tag:noindex
X-PUBLISHED-TTL:PT1H
BEGIN:VTIMEZONE
TZID:UTC
BEGIN:STANDARD
TZOFFSETFROM:+0000
TZOFFSETTO:+0000
TZNAME:UTC
DTSTART:20220101T000000
END:STANDARD
END:VTIMEZONE
BEGIN:VEVENT
DTSTART;TZID=UTC:20230814T000000
DTEND;TZID=UTC:20230814T000000
DTSTAMP:20260425T163238
CREATED:20230814T202758Z
LAST-MODIFIED:20230814T202910Z
UID:10000191-1691971200-1691971200@hireone.ccedcpa.com
SUMMARY:September 12\, 2023 - CPENG meet up at Timothy's in Lionville\, for Job Seekers - time of day tbd
DESCRIPTION:Join CPENG for their social on September 12 at Timothy’s\, Lionville. Go to https://cpengroup.wildapricot.org/ for more information about this offering. \nFrom their website: “CPENG is a membership based nonprofit organization that provides a forum for members to develop professional relationships and to provide support for business development and professional career transitions through networking\, training\, volunteer experience and support groups. The culture is friendly and welcoming\, and we offer monthly meetings at multiple locations.”
URL:https://hireone.ccedcpa.com/event/september-12-2023-cpeng-meet-up-at-timothys-in-lionville-for-job-seekers/
CATEGORIES:For Job Seekers
END:VEVENT
BEGIN:VEVENT
DTSTART;TZID=UTC:20230816T150000
DTEND;TZID=UTC:20230816T200000
DTSTAMP:20260425T163238
CREATED:20230803T011007Z
LAST-MODIFIED:20230803T011415Z
UID:10000190-1692198000-1692216000@hireone.ccedcpa.com
SUMMARY:August 16\, 2023 - Explore State Government Career Opportunities - 3-8:00 p.m.
DESCRIPTION:Hire One is sharing news for PennDot. \nExplore State Government Career Opportunities at this event in Coatesville. Learn more at the link below. \nhttps://www.employment.pa.gov/Pages/events.aspx
URL:https://hireone.ccedcpa.com/event/august-16-2023-explore-state-government-career-opportunities-3-800-p-m/
CATEGORIES:For Job Seekers
END:VEVENT
END:VCALENDAR