BEGIN:VCALENDAR
VERSION:2.0
PRODID:-//Hire One of Chester County, PA - ECPv6.15.20//NONSGML v1.0//EN
CALSCALE:GREGORIAN
METHOD:PUBLISH
X-ORIGINAL-URL:https://hireone.ccedcpa.com
X-WR-CALDESC:Events for Hire One of Chester County, PA
REFRESH-INTERVAL;VALUE=DURATION:PT1H
X-Robots-Tag:noindex
X-PUBLISHED-TTL:PT1H
BEGIN:VTIMEZONE
TZID:UTC
BEGIN:STANDARD
TZOFFSETFROM:+0000
TZOFFSETTO:+0000
TZNAME:UTC
DTSTART:20240101T000000
END:STANDARD
END:VTIMEZONE
BEGIN:VEVENT
DTSTART;TZID=UTC:20250204T083000
DTEND;TZID=UTC:20250204T100000
DTSTAMP:20260424T134940
CREATED:20250203T222714Z
LAST-MODIFIED:20250203T223540Z
UID:10000197-1738657800-1738663200@hireone.ccedcpa.com
SUMMARY:2/4/25 - Hire One Taskforce Meeting\, Exton 8:30 - 10:00 a.m.
DESCRIPTION:The Chester County Economic Development Council\, the Chester County Workforce Development Board\, PA CareerLink®\, and numerous other Chester County committed organizations have established a task force to develop key strategies for successfully connecting job seekers to hiring employers. \nThe next Taskforce Meeting is 2/4/2025 from 8:30 – 10:00 a.m. in Exton. \nAGENDA of discussion points: \nTopics to address today: Trends\, sharing experiences from employers and recruiters\, including the two articles below that were sent in the meeting invite. \n\nIncreased workforce (yes\, there are more people in the workforce now compared to 3 years ago)\nIncreased layoffs especially of mid-level roles\nImproved time to hire?\n\nTalent and workforce trends: new apprenticeship models are coming\, childcare and attainable housing initiatives\, transportation. \nBest practices: anything new for retaining and attracting employees; training grants available; hiring for skills VS experience? \nEmployer trainings: PA Dept of Labor and CareerLink® and SCORE all have offerings … what’s desired? \nBrainstorm: Hire One to improve / replace / change Business Networking meetings \nJoin us! Email Bethanie Emery at bemery@ccedcpa.com
URL:https://hireone.ccedcpa.com/event/february-4-2025-hire-one-taskforce-meeting-in-exton-830-1000-a-m/
CATEGORIES:For Employers
END:VEVENT
BEGIN:VEVENT
DTSTART;TZID=UTC:20250225T093000
DTEND;TZID=UTC:20250521T113000
DTSTAMP:20260424T134940
CREATED:20250203T221800Z
LAST-MODIFIED:20250203T223413Z
UID:10000196-1740475800-1747827000@hireone.ccedcpa.com
SUMMARY:PA CareerLink® Series of Webinars for Employers - Feb 25th -May 21st\, 2025
DESCRIPTION:Follow the links below to learn more about the offering from the PA CareerLink®! \nEvents flyer: Employer Webinar Series Flyer Chester County \nHelping Build the Capacity of Your Workforce series\n2/25/2025 – 9:30-10:30 a.m. The Psychology of Why Your Workforce Isn’t Showing Up  Register: https://events.teams.microsoft.com/event/f669fd18-cecb-4da9-84b0-30df99913754@c5355b89-af13-46d6-81c6-57b215698d21 \n4/1/2025 – 9:30-10:30 a.m. Employer On-the-Job Training Register: https://events.teams.microsoft.com/event/990d6773-319a-400c-8a0c-716664bd1562@c5355b89-af13-46d6-81c6-57b215698d21 \n5/6/2025 9:30-10:30 a.m. What Employees Really Want! Register: https://events.teams.microsoft.com/event/e1dcdac0-3f3b-4c13-80b8-3848c2d3a01c@c5355b89-af13-46d6-81c6-57b215698d21 \n6/10/2025 9:30-10:30 a.m. Employer On-the-Job Training Register: https://events.teams.microsoft.com/event/c2c69d6d-f975-4566-aaad-0b736a7576ef@c5355b89-af13-46d6-81c6-57b215698d21 \n6/24/2025 9:30-10:30 a.m. Building Tomorrow’s Workforce Through Apprenticeships Register: https://events.teams.microsoft.com/event/86d47d91-9ee3-4bf6-b8a9-eeee0615ad1c@c5355b89-af13-46d6-81c6-57b215698d21 \nUnemployment Compensation Seminar Offerings for Employers series:\n2/12/2025 – 10-11:30 p.m. Separation Issues Register: https://pacl-separationissues.eventbrite.com \n3/19/2025 – 10-11 a.m. Relief from Charges Register: https://pacl-ucrelief.eventbrite.com \n4/30/2025 – 10 a.m.-12 pm Appeals and Hearings Register: https://pacl-ucappeals.eventbrite.com \n5/21/2025 – 10-11:30 a.m. Employer UC Tax Contribution Rate  Register: https://pacl-uctaxrate.eventbrite.com
URL:https://hireone.ccedcpa.com/event/pa-careerlink-series-of-webinars-to-help-employers-with-workforce-and-ue-compensation-feb-25-through-may-21/
CATEGORIES:For Employers
END:VEVENT
END:VCALENDAR