BEGIN:VCALENDAR
VERSION:2.0
PRODID:-//Hire One of Chester County, PA - ECPv6.15.20//NONSGML v1.0//EN
CALSCALE:GREGORIAN
METHOD:PUBLISH
X-ORIGINAL-URL:https://hireone.ccedcpa.com
X-WR-CALDESC:Events for Hire One of Chester County, PA
REFRESH-INTERVAL;VALUE=DURATION:PT1H
X-Robots-Tag:noindex
X-PUBLISHED-TTL:PT1H
BEGIN:VTIMEZONE
TZID:UTC
BEGIN:STANDARD
TZOFFSETFROM:+0000
TZOFFSETTO:+0000
TZNAME:UTC
DTSTART:20210101T000000
END:STANDARD
END:VTIMEZONE
BEGIN:VEVENT
DTSTART;TZID=UTC:20220407T100000
DTEND;TZID=UTC:20220407T180000
DTSTAMP:20260424T062237
CREATED:20220406T185621Z
LAST-MODIFIED:20220406T185836Z
UID:10000170-1649325600-1649354400@hireone.ccedcpa.com
SUMMARY:April 7\, 2022 - Herr Foods Hiring Event - 10 a.m.-1p.m. and 4-6 p.m.
DESCRIPTION:Herr Foods is holding an onsite Hiring Event! \nemail Recruitment@herr.com or call 610-932-6500 to make an appointment \nhttps://www.linkedin.com/posts/lisa-griegel-2837305_hiring-event-activity-6916804607180439552-FzkR?utm_source=linkedin_share&utm_medium=member_desktop_web
URL:https://hireone.ccedcpa.com/event/april-7-2022-herr-foods-hiring-event-10-a-m-1p-m-and-4-6-p-m/
LOCATION:271 Old Baltimore Pike\, Nottingham\, PA 19362\, 271 Old Baltimore Pike\, Nottingham\, PA\, 19362\, United States
CATEGORIES:For Job Seekers
END:VEVENT
END:VCALENDAR