BEGIN:VCALENDAR
VERSION:2.0
PRODID:-//Hire One of Chester County, PA - ECPv6.15.20//NONSGML v1.0//EN
CALSCALE:GREGORIAN
METHOD:PUBLISH
X-ORIGINAL-URL:https://hireone.ccedcpa.com
X-WR-CALDESC:Events for Hire One of Chester County, PA
REFRESH-INTERVAL;VALUE=DURATION:PT1H
X-Robots-Tag:noindex
X-PUBLISHED-TTL:PT1H
BEGIN:VTIMEZONE
TZID:UTC
BEGIN:STANDARD
TZOFFSETFROM:+0000
TZOFFSETTO:+0000
TZNAME:UTC
DTSTART:20150101T000000
END:STANDARD
END:VTIMEZONE
BEGIN:VEVENT
DTSTART;TZID=UTC:20161102T161500
DTEND;TZID=UTC:20161102T181500
DTSTAMP:20260424T103607
CREATED:20161007T173453Z
LAST-MODIFIED:20161018T213405Z
UID:10000056-1478103300-1478110500@hireone.ccedcpa.com
SUMMARY:Hire One Fall Networking Event - Connect With Your Next Employee
DESCRIPTION:REGISTER NOW \nTestimonials from Employers who attended Hire One’s previous networking event: \n“The diversity in the candidates’ backgrounds as well as the companies in attendance was intriguing. After speaking with one of the job seekers\, I was able to introduce him to a hiring manager from another company. That introduction led to an interview and a new hire!” – Automated Financial Systems \n“I was able to have valuable conversations with the job seekers to learn about the person and what they were looking for in their next position.” – SEI \n“Job Seekers and Employers worked together to share connections and match interests. Very different from any other networking event I have attended.” – Sherwin Williams \nHire One hosted a similar\, highly successful networking event where several job seekers made important connections for referrals that lead to interview opportunities and several of those job seekers landed a new job! Hire One is hosting this event again to bring professional level job seekers together with firms that are hiring. \nAnyone who manages and hires people should carve out time for networking! 80% of the people who get hired are referred into an organization. An effective hiring manager has a strong network they can rely on to introduce them to their next great hire. This Hire One event was built for employers (Managers and Recruiters) to have an opportunity to meet professionals from various careers (Energy\, Information Technology\, Healthcare\, Financial Services\, Manufacturing\, and others) to build relationships and a network of associates. \nThis is a business meeting\, not a job fair. Hors d’oeuvres and beverages will be served. \nIf you have additional questions please contact Jim Lauckner\, Hire One Sr. Project Manager. \nThis event is funded in part by the Chester County Workforce Development Board. \n 
URL:https://hireone.ccedcpa.com/event/hire-one-fall-networking-event-connect-with-your-next-employee/
LOCATION:BiZtract\, 255 Great Valley Parkway - Suite 140\, Malvern\, PA\, 19355\, United States
CATEGORIES:For Employers
END:VEVENT
BEGIN:VEVENT
DTSTART;TZID=UTC:20161102T161500
DTEND;TZID=UTC:20161102T181500
DTSTAMP:20260424T103607
CREATED:20161007T171803Z
LAST-MODIFIED:20161018T213451Z
UID:10000055-1478103300-1478110500@hireone.ccedcpa.com
SUMMARY:Hire One Fall Networking Event - Build Connections With Your Next Employer
DESCRIPTION:REGISTER NOW \nTestimonials from Job Seekers who attended Hire One’s previous networking event: \n“This was a really unique format to speak directly with employers.” \n“Great sharing of connections amongst employers and job seekers – unlike anything I have ever attended!” \n“Everyone keeps telling me that it’s all about the networking and now I understand why!” \nRegistration is FREE for qualified job seekers (must have a minimum of five years professional level work experience and have earned a salary of at least $45\,000. Most participating firms will be looking for candidates who have a four year degree\, however\, all are welcome to attend)/ Pre-registration is required and space is limited. \nAt similar Hire One networking events\, several job seekers made important connections for referrals that lead to interview opportunities and for some\, a new job! Hire One is hosting this event again to bring professional level job seekers together with firms that are hiring. Certainly\, when you are looking for a job you need to network. Approximately 80% of the people who get hired are “referred” into an organization. \nThe purpose of this meeting is to build relationships and a network of associates. This is a business meeting\, not a job fair. Please do not bring your resume to this meeting as this is intended to be an opportunity to connect face-to-face with employers who are hiring. Every Job Seeker looking for work in and around the Chester County area (including Berks\, Montco\, Delco\, Bucks\, and Philadelphia) should attend this free event. Hiring Managers and Human Resources professionals from the Energy\, Information Technology\, Healthcare\, Financial Services\, Manufacturing\, and other fields are expected to be in attendance. Hors d’oeuvres and beverages will be provided. \nJoin us to meet and network with this unique group of decision makers and very well connected individuals who might be able to introduce you to your next employer! \nIf you have any questions\, please contact Jim Lauckner\, Hire One Sr. Project Manager. \nThis event is funded in part by the Chester County Workforce Development Board.
URL:https://hireone.ccedcpa.com/event/hire-one-fall-networking-event-build-connections-with-your-next-employer/
LOCATION:BiZtract\, 255 Great Valley Parkway - Suite 140\, Malvern\, PA\, 19355\, United States
CATEGORIES:For Job Seekers
END:VEVENT
END:VCALENDAR