BEGIN:VCALENDAR
VERSION:2.0
PRODID:-//Hire One of Chester County, PA - ECPv6.15.20//NONSGML v1.0//EN
CALSCALE:GREGORIAN
METHOD:PUBLISH
X-ORIGINAL-URL:https://hireone.ccedcpa.com
X-WR-CALDESC:Events for Hire One of Chester County, PA
REFRESH-INTERVAL;VALUE=DURATION:PT1H
X-Robots-Tag:noindex
X-PUBLISHED-TTL:PT1H
BEGIN:VTIMEZONE
TZID:UTC
BEGIN:STANDARD
TZOFFSETFROM:+0000
TZOFFSETTO:+0000
TZNAME:UTC
DTSTART:20240101T000000
END:STANDARD
END:VTIMEZONE
BEGIN:VEVENT
DTSTART;TZID=UTC:20250425T080000
DTEND;TZID=UTC:20250425T150000
DTSTAMP:20260424T020927
CREATED:20250416T200713Z
LAST-MODIFIED:20250416T201855Z
UID:10000201-1745568000-1745593200@hireone.ccedcpa.com
SUMMARY:Fair Chance Employment Summit
DESCRIPTION:REGISTER HERE: http://www.cciu.com/fair-chance\n\nThe Chester County Intermediate Unit (CCIU) will be hosting a FREE Fair Chance Employer Summit to educate all on fair chance hiring practices and benefits of hiring justice involved individuals. \n\n\nAttendees will also experience a real life re-entry simulation hosted by the US Attorney’s Office.  Participants will learn about new changes in the re-entry world including information about the newly released Act 44 of 2023 Probation Reform bill and financial incentives for businesses hiring justice involved individuals. \nThe Fair Chance Employment Summit involves training employers to adopt a fair chance workplace for individuals with prior justice system involvement. \nBreakfast and lunch will be provided. \nWhy Attend? \n\nBe a part of building a stronger PA workforce\nPrepare for the future of work in Chester County\nOvercome barriers to fill employment needs\nExperience a real live re-entry simulation from the U.S. Attorney’s Office\n\nDate: Friday\, April 25\, 2025\nTime: 8:00 a.m. – 3:00 p.m.\nLocation: CCIU Educational Service Center (455 Boot Road\, Downingtown\, PA 19335) \nQuestions? Contact Jill Stoltzfus at JillS@cciu.org | (484) 237-5158
URL:https://hireone.ccedcpa.com/event/fair-chance-employment-summit/
LOCATION:CCIU Educational Service Center\, 455 Boot Road\, Downingtown\, PA\, 19335\, United States
CATEGORIES:For Employers
ATTACH;FMTTYPE=application/pdf:https://hireone.ccedcpa.com/wp-content/uploads/2025/04/Fair-Chance-Employer-Summit-2025-Flyer-1.pdf
END:VEVENT
END:VCALENDAR