BEGIN:VCALENDAR
VERSION:2.0
PRODID:-//Hire One of Chester County, PA - ECPv6.15.20//NONSGML v1.0//EN
CALSCALE:GREGORIAN
METHOD:PUBLISH
X-WR-CALNAME:Hire One of Chester County, PA
X-ORIGINAL-URL:https://hireone.ccedcpa.com
X-WR-CALDESC:Events for Hire One of Chester County, PA
REFRESH-INTERVAL;VALUE=DURATION:PT1H
X-Robots-Tag:noindex
X-PUBLISHED-TTL:PT1H
BEGIN:VTIMEZONE
TZID:UTC
BEGIN:STANDARD
TZOFFSETFROM:+0000
TZOFFSETTO:+0000
TZNAME:UTC
DTSTART:20150101T000000
END:STANDARD
END:VTIMEZONE
BEGIN:VEVENT
DTSTART;TZID=UTC:20170302T073000
DTEND;TZID=UTC:20170302T091500
DTSTAMP:20260424T045431
CREATED:20161216T004710Z
LAST-MODIFIED:20161216T004710Z
UID:10000070-1488439800-1488446100@hireone.ccedcpa.com
SUMMARY:Employee Relations That Work!
DESCRIPTION:Presented by the Greater Valley Forge Human Resources Association \nIn this presentation\, we will review the best practices of a Corporate Employee Relations program and how to properly structure a full infrastructure of personnel\, policies and best practices to support the program. The content of the presentation will cover the eight parts of an effective Employee Relations program\, including:\n1. Strategic Plan\n2. Team Competencies and Development\n3. Policy Portfolio\n4. Case Management\n5. Dashboards and Metrics\n6. Employee Engagement\n7. Institutionalization\n8. Workplace Issue Resolution
URL:https://hireone.ccedcpa.com/event/employee-relations-that-work/
LOCATION:Crowne Plaza\, King of Prussia\, 260 Mall Blvd.\, King of Prussia\, PA\, 19406\, United States
CATEGORIES:For Employers
END:VEVENT
BEGIN:VEVENT
DTSTART;TZID=UTC:20170221T173000
DTEND;TZID=UTC:20170221T193000
DTSTAMP:20260424T045431
CREATED:20161216T004132Z
LAST-MODIFIED:20161216T004132Z
UID:10000069-1487698200-1487705400@hireone.ccedcpa.com
SUMMARY:What to do with the HiPo of the YoPro when you're an OldPro - Examining the Communicative and Assessment Process of Leadership Training
DESCRIPTION:Presented by the Greater Valley Forge Human Resources Association \nThe goal of the session will be to provide insight around assessing leadership potential. Leadership assessment and measurement are a vital tool for strategic team and broader organizational development. The appeal towards individuals with “winning” personalities does not necessarily mean that the skill sets for leadership are present. Are organizations just plugging holes in their talent need by over-estimating the potential of a person? Assessment as an art will be discussed. Contributing factors such as organizational structure\, economics\, generational differences (real or perceived)\, evaluative processes and talent alignment pathing will be discussed. Once it is determined there is high potential in an individual\, how is that assessed? \nSHRM PDCs and HRCI Credits Pending
URL:https://hireone.ccedcpa.com/event/what-to-do-with-the-hipo-of-the-yopro-when-youre-an-oldpro-examining-the-communicative-and-assessment-process-of-leadership-training/
LOCATION:Crowne Plaza\, King of Prussia\, 260 Mall Blvd.\, King of Prussia\, PA\, 19406\, United States
CATEGORIES:For Employers
END:VEVENT
BEGIN:VEVENT
DTSTART;TZID=UTC:20161115T173000
DTEND;TZID=UTC:20161115T193000
DTSTAMP:20260424T045431
CREATED:20161025T192421Z
LAST-MODIFIED:20161025T192421Z
UID:10000060-1479231000-1479238200@hireone.ccedcpa.com
SUMMARY:VUCA Leadership for Organizational and Career Success
DESCRIPTION:1.25 SHRM PDC’s Approved and HRCI Pending \nOur interactive program focuses on understanding VUCA and how best to overcome these aspects for the benefit of your organization and your own career. \nDue to mergers and acquisitions\, a changing government landscape\, regulatory decisions\, and globalization implications (just to name a few factors)\, today’s workplace is Volatile\, Uncertain\, Complex\, and Ambiguous. HR professionals must learn how to lead in a VUCA environment. This VUCA doctrine underscores the importance of strategic decision-making\, readiness planning\, risk management\, and situational problem-solving. To overcome VUCA\, you will learn four key leadership strategies:  Vision\, Understanding\, Clarity\, and Agility. After presenting key concepts\, Helen and Matt will facilitate a case study with participants working in small breakouts to develop your own ideas about VUCA leadership and how to apply Vision\, Understanding\, Clarity\, and Agility to navigate your company’s circumstances. \nThis topic will appeal to senior professionals who are entrusted to provide organizational strategy and direction within their respective organizations. It will provide language and tools which will allow participants to further develop their skills in critical thinking\, strategic planning\, and leadership development. It will allow participants to engage more impactfully with senior management and enhance their impact on their organization’s vision\, strategic goals\, and bottom line. \nSpeakers: \nHelen T. Cooke is an organizational development/ human resources consultant and founder of Cooke Consulting Group who provides services to a variety of clients including pharmaceutical\, biotechnology\, and consumer product companies. Her work focuses on unleashing potential for leaders and their organizations. She is a recognized expert in strengthening emotional intelligence and related “soft skills” in leaders and their teams. Previously\, Helen worked within the pharmaceutical/ biotech industry and her last internal position was Director\, Organizational Effectiveness at Ortho-McNeil Pharmaceutical (Johnson & Johnson). \nMatthew Levy Matthew Levy is an Executive Vice President with Velocity Advisory Group\, a boutique consulting firm specializing in driving business results for clients through strategic planning\, employee engagement\, culture change\, leadership development and executive coaching. His background includes twenty+ years of broad experience in human resources roles at blue-chip companies including Merck\, Amgen and Johnson & Johnson.
URL:https://hireone.ccedcpa.com/event/vuca-leadership-for-organizational-and-career-success/
LOCATION:Crowne Plaza\, King of Prussia\, 260 Mall Blvd.\, King of Prussia\, PA\, 19406\, United States
CATEGORIES:For Employers
END:VEVENT
BEGIN:VEVENT
DTSTART;TZID=UTC:20161103T073000
DTEND;TZID=UTC:20161103T100000
DTSTAMP:20260424T045431
CREATED:20161025T191538Z
LAST-MODIFIED:20161025T191612Z
UID:10000059-1478158200-1478167200@hireone.ccedcpa.com
SUMMARY:Cat's Paws\, Overtime\, and Harassment\, Oh My! Things that Go Bump in the Workplace (Even after Halloween)
DESCRIPTION:Approved for 1.25 SHRM PDC’s and HRCI credits  \nBreakfast and Registration Begins at 7:30 AM\, Program Begins at 8:00 AM \nThis presentation will provide a brief explanation of workplace harassment\, how to recognize it\, and both the responsibilities of an employee who has witnessed or been subjected to workplace harassment and the agency that has been put on notice of allegations of workplace harassment. The presentation will also address Conducting workplace investigations which is one of the most challenging duties that HR professionals must take on. Workforce demographics are shifting. New laws are constantly popping up. Managers make mistakes because they aren’t properly trained or they’re under pressure to resolve complaints quickly. Employees are more aware of their rights. This presentation will answer the riddle What does employment discrimination law have to do with the paws of a cat. The Court in Staub\, applying what has come to be known as the “cat’s paw” theory of employer liability\, held that an employer may be strictly liable for intentional discrimination under USERRA (and other similar statutes\, like Title VII) when a lower-level supervisor intentionally discriminates against an employee and then causes a higher level decision-maker\, who has no discriminatory motive or “animus\,” to terminate or take some other adverse action against the employee \nSPEAKER: \nJason Resiman \, Esq \, Partner at Blank Rome. \nJason has extensive experience in equal employment opportunity matters before state and federal agencies\, federal employment discrimination litigation\, wage and hour (including overtime) litigation\, collective bargaining\, and representation case and unfair labor practice proceedings before the National Labor Relations Board. He also has comprehensive knowledge of the Fair Labor Standards Act and Worker Adjustment and Retraining Notification Act of 1988 (WARN Act)
URL:https://hireone.ccedcpa.com/event/cats-paws-overtime-and-harassment-oh-my-things-that-go-bump-in-the-workplace-even-after-halloween/
LOCATION:Crowne Plaza\, King of Prussia\, 260 Mall Blvd.\, King of Prussia\, PA\, 19406\, United States
CATEGORIES:For Employers
END:VEVENT
END:VCALENDAR