BEGIN:VCALENDAR
VERSION:2.0
PRODID:-//Hire One of Chester County, PA - ECPv6.15.20//NONSGML v1.0//EN
CALSCALE:GREGORIAN
METHOD:PUBLISH
X-ORIGINAL-URL:https://hireone.ccedcpa.com
X-WR-CALDESC:Events for Hire One of Chester County, PA
REFRESH-INTERVAL;VALUE=DURATION:PT1H
X-Robots-Tag:noindex
X-PUBLISHED-TTL:PT1H
BEGIN:VTIMEZONE
TZID:UTC
BEGIN:STANDARD
TZOFFSETFROM:+0000
TZOFFSETTO:+0000
TZNAME:UTC
DTSTART:20180101T000000
END:STANDARD
END:VTIMEZONE
BEGIN:VEVENT
DTSTART;TZID=UTC:20190806T173000
DTEND;TZID=UTC:20190806T200000
DTSTAMP:20260424T060849
CREATED:20190724T210654Z
LAST-MODIFIED:20190724T210654Z
UID:10000133-1565112600-1565121600@hireone.ccedcpa.com
SUMMARY:CPENG East Joint Networking Social in King of Prussia
DESCRIPTION:This event will be held at the Fox & Hound Pub and Grille in King of Prussia. \nAll mid – senior level executives are welcome \n * CPENG has a complimentary 2-event limit for our guests.  \nRegistration is limited – sign up now!  https://cpengroup.wildapricot.org/event-3476098
URL:https://hireone.ccedcpa.com/event/cpeng-east-joint-networking-social-in-king-of-prussia/
LOCATION:Fox and Hound Pub and Grille\, 160 N. Gulph Road\, Suite 211\, King of Prussia\, 19406\, United States
CATEGORIES:For Job Seekers
END:VEVENT
BEGIN:VEVENT
DTSTART;TZID=UTC:20190205T053000
DTEND;TZID=UTC:20190205T053000
DTSTAMP:20260424T060849
CREATED:20190202T005423Z
LAST-MODIFIED:20190202T005534Z
UID:10000118-1549344600-1549344600@hireone.ccedcpa.com
SUMMARY:CPENG East Joint Networking Social at Fox and Hound Pub and Grille
DESCRIPTION:Date:                           Tuesday\, February 5th \nTime:                          5:30 – 8:00 PM \nWhere:                       Fox and Hound Pub and Grille \n160 N. Gulph Road\, Suite 211 \nKing of Prussia\, PA 19406 \n610-962-0922 \nHow:                           Sign up at www.cpengroup.org \nPlease contact Eleanore Meals at eleanore.meals@gmail.com or  \nBob Popek at r.popek52@gmail.com if you need to cancel \nWho:                     All mid – senior level executives are welcome \nWhat to bring:           Business cards ..and bring a colleague! \nA $10 per person charge that will be collected at sign-in to cover hors d’oeuvres. \n * Please note that we have a complimentary 2-event limit for our guests.  \nRegistration is limited – sign up now! \nWe look forward to a good time and some great networking!!!
URL:https://hireone.ccedcpa.com/event/cpeng-east-joint-networking-social-at-fox-and-hound-pub-and-grille/
LOCATION:Fox and Hound Pub and Grille\, 160 N. Gulph Road\, Suite 211\, King of Prussia\, 19406\, United States
CATEGORIES:For Job Seekers
END:VEVENT
END:VCALENDAR