BEGIN:VCALENDAR
VERSION:2.0
PRODID:-//Hire One of Chester County, PA - ECPv6.15.20//NONSGML v1.0//EN
CALSCALE:GREGORIAN
METHOD:PUBLISH
X-ORIGINAL-URL:https://hireone.ccedcpa.com
X-WR-CALDESC:Events for Hire One of Chester County, PA
REFRESH-INTERVAL;VALUE=DURATION:PT1H
X-Robots-Tag:noindex
X-PUBLISHED-TTL:PT1H
BEGIN:VTIMEZONE
TZID:UTC
BEGIN:STANDARD
TZOFFSETFROM:+0000
TZOFFSETTO:+0000
TZNAME:UTC
DTSTART:20170101T000000
END:STANDARD
END:VTIMEZONE
BEGIN:VEVENT
DTSTART;TZID=UTC:20180816T140000
DTEND;TZID=UTC:20180816T180000
DTSTAMP:20260424T092421
CREATED:20180809T014651Z
LAST-MODIFIED:20180920T203233Z
UID:10000097-1534428000-1534442400@hireone.ccedcpa.com
SUMMARY:Job Fair at Houston Run Community Center in Gap\, PA 08-16-2018 from 2-6pm
DESCRIPTION:You’re Invited! \nCalling all Job Seekers in western Chester and eastern Lancaster counties.  No registration or fee required for Job seekers. \nBusinesses looking to host a table must register.  Recruiting tables are $50.00.  Register here: http://www.westernchestercounty.com/job/ \n 
URL:https://hireone.ccedcpa.com/event/job-fair-at-houston-run-community-center-in-gap-pa-08-16-2018-from-2-6pm/
LOCATION:Houston Run Community Center\, 835 Houston Run Drive\, Gap\, PA\, 17527\, United States
CATEGORIES:For Job Seekers
END:VEVENT
END:VCALENDAR