BEGIN:VCALENDAR
VERSION:2.0
PRODID:-//Hire One of Chester County, PA - ECPv6.15.20//NONSGML v1.0//EN
CALSCALE:GREGORIAN
METHOD:PUBLISH
X-WR-CALNAME:Hire One of Chester County, PA
X-ORIGINAL-URL:https://hireone.ccedcpa.com
X-WR-CALDESC:Events for Hire One of Chester County, PA
REFRESH-INTERVAL;VALUE=DURATION:PT1H
X-Robots-Tag:noindex
X-PUBLISHED-TTL:PT1H
BEGIN:VTIMEZONE
TZID:UTC
BEGIN:STANDARD
TZOFFSETFROM:+0000
TZOFFSETTO:+0000
TZNAME:UTC
DTSTART:20240101T000000
END:STANDARD
END:VTIMEZONE
BEGIN:VEVENT
DTSTART;TZID=UTC:20250508T173000
DTEND;TZID=UTC:20250508T200000
DTSTAMP:20260424T020705
CREATED:20250416T191538Z
LAST-MODIFIED:20250416T192003Z
UID:10000199-1746725400-1746734400@hireone.ccedcpa.com
SUMMARY:Mastering the Art of Virtual Leadership: Engaging Teams and Driving Collective Success
DESCRIPTION:REGISTER HERE \nIn a world where virtual and hybrid work is a newer norm\, leaders and their teams face unique challenges for how to inspire\, engage\, and drive results without the benefit of physical proximity. Driving success in virtual environments demands intentionality\, adaptability\, and meaningful connections. This interactive session explores the evolving demands of virtual leadership and offers practical insights and tools for fostering connection\, trust\, and collaboration—no matter the distance. \nTogether we will: \n\nDiscuss real-world virtual leadership challenges and effective techniques for building trust\, engagement\, and alignment in remote and hybrid teams.\nParticipate in breakout groups to identify and discuss best practices for maintaining team performance\, engagement\, and alignment in virtual environments.\nExplore tools and approaches to navigate the complexities of communication and collaboration in a virtual world.\n\nParticipants will leave this session empowered with fresh perspectives and practical strategies to lead and navigate confidently within the virtual workspace. Whether you are managing a fully remote team or navigating hybrid dynamics\, our discussion will provide the inspiration and tools you need to lead with impact.
URL:https://hireone.ccedcpa.com/event/mastering-the-art-of-virtual-leadership-engaging-teams-and-driving-collective-success/
LOCATION:Judge Learning Solutions\, 151 S. Warner Road\, Suite 100\, Wayne\, PA\, 19087\, United States
CATEGORIES:For Employers,For Job Seekers
ATTACH;FMTTYPE=application/pdf:https://hireone.ccedcpa.com/wp-content/uploads/2025/04/Mastering-the-Art-of-Virtual-Leadership-Program-Flyer-5.8.25_v4-2-1-1-1.pdf
END:VEVENT
END:VCALENDAR