BEGIN:VCALENDAR
VERSION:2.0
PRODID:-//Hire One of Chester County, PA - ECPv6.15.20//NONSGML v1.0//EN
CALSCALE:GREGORIAN
METHOD:PUBLISH
X-WR-CALNAME:Hire One of Chester County, PA
X-ORIGINAL-URL:https://hireone.ccedcpa.com
X-WR-CALDESC:Events for Hire One of Chester County, PA
REFRESH-INTERVAL;VALUE=DURATION:PT1H
X-Robots-Tag:noindex
X-PUBLISHED-TTL:PT1H
BEGIN:VTIMEZONE
TZID:UTC
BEGIN:STANDARD
TZOFFSETFROM:+0000
TZOFFSETTO:+0000
TZNAME:UTC
DTSTART:20170101T000000
END:STANDARD
END:VTIMEZONE
BEGIN:VEVENT
DTSTART;TZID=UTC:20180417T080000
DTEND;TZID=UTC:20180417T140000
DTSTAMP:20260424T073107
CREATED:20180403T003545Z
LAST-MODIFIED:20180403T003545Z
UID:10000083-1523952000-1523973600@hireone.ccedcpa.com
SUMMARY:CCHRA Half-Day Leadership & More Professional Summit
DESCRIPTION:Looking for an opportunity to learn about best practices\, network with area professionals and an opportunity to earn Continuing Ed credits? Attend this CCHRA Half-Day Professional Conference. \nSummit Training Sessions: \n\n“Cybersecurity & Employment – Protecting your business from the Inside!” – Stephanie Rawitt & Jonathan Klein\n“The Path to Extraordinary Talent Management” (Interactive training!) – Lois Dostalik\nSteve Gilliland\n“Hide Your Goat” – Steve Gilliland – Author\, Speaker\, Business man and Blue Collar Radio Personality!    Guarantee: Everyone who hears his message leaves with a renewed sense of enthusiasm for who they are & what really matters!\n\nWhy Attend? \n\nBuild your Network by meeting with our valued Vendors\, CEO’s\, CFO’s & HR professionals\nIncrease your Knowledge about Best Practices from Local professionals\,\nPA SHRM & National SHRM speakers\nEarn SHRM  & HRCI credits\nReceive a Free Copy of our Keynote’s Best Selling Book – “Hide Your Goat!” \nEnjoy breakfast\, lunch & a snack while networking\, learning and having a great time!!!!\n\nCCHRA Members $135 / Non-CCHRA: $155 \nTo register\, click here.
URL:https://hireone.ccedcpa.com/event/cchra-half-day-leadership-more-professional-summit/
LOCATION:People’s Light\, 39 Conestoga Road\, Malvern\, Pa\, 19355
CATEGORIES:For Employers
END:VEVENT
END:VCALENDAR