BEGIN:VCALENDAR
VERSION:2.0
PRODID:-//Hire One of Chester County, PA - ECPv6.15.20//NONSGML v1.0//EN
CALSCALE:GREGORIAN
METHOD:PUBLISH
X-ORIGINAL-URL:https://hireone.ccedcpa.com
X-WR-CALDESC:Events for Hire One of Chester County, PA
REFRESH-INTERVAL;VALUE=DURATION:PT1H
X-Robots-Tag:noindex
X-PUBLISHED-TTL:PT1H
BEGIN:VTIMEZONE
TZID:UTC
BEGIN:STANDARD
TZOFFSETFROM:+0000
TZOFFSETTO:+0000
TZNAME:UTC
DTSTART:20170101T000000
END:STANDARD
END:VTIMEZONE
BEGIN:VEVENT
DTSTART;TZID=UTC:20180628T100000
DTEND;TZID=UTC:20180628T120000
DTSTAMP:20260424T121916
CREATED:20180626T214738Z
LAST-MODIFIED:20180626T214738Z
UID:10000091-1530180000-1530187200@hireone.ccedcpa.com
SUMMARY:How To Ace The Interview – Career Seminar
DESCRIPTION:INTERVIEWING FOR SUCCESS\nPresented by Career Potential\, Ford R. Myers \nNOTE: This is a live\, in-person event – not a webinar or teleseminar. \nDo you freeze-up at the prospect of going on a job interview? Do your hands get sweaty; does your stomach get “tied in a knot?” \nIt’s a fact that better interviews get better job offers! Yet most candidates show-up for interviews totally unprepared! The key to “acing” the interview is to practice and be fully-prepared! \nThis information-packed workshop takes the mystery – and the anxiety – out of job interviewing. \nParticipants are walked through the interviewing process\, from the employer’s initial contact to their ultimate job offer. Attendees also learn responses to tough interview questions\, how to articulate your value\, tips to maintain a proper attitude\, and appropriate follow-up strategies to get more offers! \nREGISTRATION: Advanced registration is required. Click here. \n 
URL:https://hireone.ccedcpa.com/event/how-to-ace-the-interview-career-seminar/
LOCATION:Radnor Financial Center\, 150 N. Radnor-Chester Road\, Suite F-200\, Radnor\, PA
CATEGORIES:For Job Seekers
END:VEVENT
END:VCALENDAR