BEGIN:VCALENDAR
VERSION:2.0
PRODID:-//Hire One of Chester County, PA - ECPv6.15.20//NONSGML v1.0//EN
CALSCALE:GREGORIAN
METHOD:PUBLISH
X-ORIGINAL-URL:https://hireone.ccedcpa.com
X-WR-CALDESC:Events for Hire One of Chester County, PA
REFRESH-INTERVAL;VALUE=DURATION:PT1H
X-Robots-Tag:noindex
X-PUBLISHED-TTL:PT1H
BEGIN:VTIMEZONE
TZID:UTC
BEGIN:STANDARD
TZOFFSETFROM:+0000
TZOFFSETTO:+0000
TZNAME:UTC
DTSTART:20180101T000000
END:STANDARD
END:VTIMEZONE
BEGIN:VEVENT
DTSTART;TZID=UTC:20190307T074500
DTEND;TZID=UTC:20190307T143000
DTSTAMP:20260424T073207
CREATED:20181009T223206Z
LAST-MODIFIED:20181009T223428Z
UID:10000109-1551944700-1551969000@hireone.ccedcpa.com
SUMMARY:3rd Annual TCHS Career & Training Fair Brandywine campus
DESCRIPTION:Technical College High School Brandywine campus would like to invite local businesses and industry to our third annual career and training fair on March 7th 2019.  Click HERE to register.  This event provides employers the opportunity to meet graduating seniors from related industry programs.  With all three campuses attending this year\, we will likely have nearly 1000 students in attendance.  Unlike other job fairs\, TCHS provides a personal one to one sit-down interview environment.  Interviewers are given interview materials and meals.  Last year we had over 100 local companies interviewing and we hope you can join us.
URL:https://hireone.ccedcpa.com/event/3rd-annual-tchs-career-training-fair-brandywine-campus/
LOCATION:TCHS Brandywine Campus\, 443 Boot Road\, Downingtown\, PA\, 19335\, United States
CATEGORIES:For Employers
END:VEVENT
END:VCALENDAR