BEGIN:VCALENDAR
VERSION:2.0
PRODID:-//Hire One of Chester County, PA - ECPv6.15.20//NONSGML v1.0//EN
CALSCALE:GREGORIAN
METHOD:PUBLISH
X-ORIGINAL-URL:https://hireone.ccedcpa.com
X-WR-CALDESC:Events for Hire One of Chester County, PA
REFRESH-INTERVAL;VALUE=DURATION:PT1H
X-Robots-Tag:noindex
X-PUBLISHED-TTL:PT1H
BEGIN:VTIMEZONE
TZID:UTC
BEGIN:STANDARD
TZOFFSETFROM:+0000
TZOFFSETTO:+0000
TZNAME:UTC
DTSTART:20170101T000000
END:STANDARD
END:VTIMEZONE
BEGIN:VEVENT
DTSTART;TZID=UTC:20181102T080000
DTEND;TZID=UTC:20181102T100000
DTSTAMP:20260424T060904
CREATED:20181019T235016Z
LAST-MODIFIED:20181019T235016Z
UID:10000113-1541145600-1541152800@hireone.ccedcpa.com
SUMMARY:Coatesville Youth Initiative - Breakthrough Leader Breakfast
DESCRIPTION:The Coatesville Youth Initiative Breakthrough Leader Breakfast is November 2\, 2018 from 8-10am at the Desmond Great Valley\, Malvern PA.  To learn more about the event and to register\, click HERE.
URL:https://hireone.ccedcpa.com/event/coatesville-youth-initiative-breakthrough-leader-breakfast/
LOCATION:The Desmond Great Valley\, 100 Liberty Boulevard\, Malvern\, PA\, 19355\, United States
CATEGORIES:For Employers
END:VEVENT
END:VCALENDAR