BEGIN:VCALENDAR
VERSION:2.0
PRODID:-//Hire One of Chester County, PA - ECPv6.15.20//NONSGML v1.0//EN
CALSCALE:GREGORIAN
METHOD:PUBLISH
X-ORIGINAL-URL:https://hireone.ccedcpa.com
X-WR-CALDESC:Events for Hire One of Chester County, PA
REFRESH-INTERVAL;VALUE=DURATION:PT1H
X-Robots-Tag:noindex
X-PUBLISHED-TTL:PT1H
BEGIN:VTIMEZONE
TZID:UTC
BEGIN:STANDARD
TZOFFSETFROM:+0000
TZOFFSETTO:+0000
TZNAME:UTC
DTSTART:20180101T000000
END:STANDARD
END:VTIMEZONE
BEGIN:VEVENT
DTSTART;TZID=UTC:20190515T140000
DTEND;TZID=UTC:20190515T180000
DTSTAMP:20260424T045429
CREATED:20190506T212724Z
LAST-MODIFIED:20190506T212724Z
UID:10000126-1557928800-1557943200@hireone.ccedcpa.com
SUMMARY:May 15\, 2019 PA CareerLink® - Chester County  and United Way Financial Stability Center Oaklands Corporate Center
DESCRIPTION:Come to an Open House to help  celebrate their 5 Year Anniversary! \n 
URL:https://hireone.ccedcpa.com/event/may-15-2019-pa-careerlink-chester-county-and-united-way-financial-stability-center-oaklands-corporate-center/
LOCATION:United Way Financial Stability Center\, Oaklands Corporate Center\, 479 Thomas Jones Way\, Suite 500\, 19341\, United States
CATEGORIES:For Employers
ORGANIZER;CN="PA Career Link of Chester County":MAILTO:jlauckner@ccedcpa.com
END:VEVENT
END:VCALENDAR