BEGIN:VCALENDAR
VERSION:2.0
PRODID:-//Hire One of Chester County, PA - ECPv6.15.20//NONSGML v1.0//EN
CALSCALE:GREGORIAN
METHOD:PUBLISH
X-WR-CALNAME:Hire One of Chester County, PA
X-ORIGINAL-URL:https://hireone.ccedcpa.com
X-WR-CALDESC:Events for Hire One of Chester County, PA
REFRESH-INTERVAL;VALUE=DURATION:PT1H
X-Robots-Tag:noindex
X-PUBLISHED-TTL:PT1H
BEGIN:VTIMEZONE
TZID:UTC
BEGIN:STANDARD
TZOFFSETFROM:+0000
TZOFFSETTO:+0000
TZNAME:UTC
DTSTART:20180101T000000
END:STANDARD
END:VTIMEZONE
BEGIN:VEVENT
DTSTART;TZID=UTC:20190427T080000
DTEND;TZID=UTC:20190427T120000
DTSTAMP:20260424T072959
CREATED:20190425T212117Z
LAST-MODIFIED:20190425T212117Z
UID:10000124-1556352000-1556366400@hireone.ccedcpa.com
SUMMARY:April 27\, 2019 8am-12pm USSC Career Fair/ Open Interview day
DESCRIPTION:United States Seating located at 101 Gordon Drive in Exton\, PA is holding a Career Fair.  Positions open include: \n\nManufacturing Production Associates\nMaterial Handlers\nQuality & Manufacturing Engineers\nPress Brake Operators\nCNC Operators\nWelders\n\nApply online in advance at www.usscgroup.com.  Phone number: 610-265-3610.  Email: HR@usscgroup.com
URL:https://hireone.ccedcpa.com/event/april-27-2019-8am-12pm-ussc-career-fair-open-interview-day/
LOCATION:USSC\, 101 Gordon Drive\, Exton\, PA\, 19341\, United States
CATEGORIES:For Job Seekers
END:VEVENT
END:VCALENDAR