BEGIN:VCALENDAR
VERSION:2.0
PRODID:-//Hire One of Chester County, PA - ECPv6.15.20//NONSGML v1.0//EN
CALSCALE:GREGORIAN
METHOD:PUBLISH
X-ORIGINAL-URL:https://hireone.ccedcpa.com
X-WR-CALDESC:Events for Hire One of Chester County, PA
REFRESH-INTERVAL;VALUE=DURATION:PT1H
X-Robots-Tag:noindex
X-PUBLISHED-TTL:PT1H
BEGIN:VTIMEZONE
TZID:UTC
BEGIN:STANDARD
TZOFFSETFROM:+0000
TZOFFSETTO:+0000
TZNAME:UTC
DTSTART:20190101T000000
END:STANDARD
END:VTIMEZONE
BEGIN:VEVENT
DTSTART;TZID=UTC:20200716T150000
DTEND;TZID=UTC:20200716T173000
DTSTAMP:20260424T075334
CREATED:20200714T003308Z
LAST-MODIFIED:20200714T003314Z
UID:10000094-1594911600-1594920600@hireone.ccedcpa.com
SUMMARY:July 16\, 2020 - Victory Brewing on-site Job Interviews - 3-5:30pm
DESCRIPTION:Victory Brewing is hiring Operations positions: Warehouse Associate – 2nd shift and Packaging Line Assistants. \nInterviews held on-site at Victory Brewing\, 420 Acorn Lane\, Downingtown\, PA 19335 \nRegistration is required for this event. Email HR@artbrewventures.com. \nView all of the jobs available at Victory at www.victorybeer.com/employment
URL:https://hireone.ccedcpa.com/event/july-16-2020-victory-brewing-on-site-job-interviews-3-530pm/
LOCATION:Victory Brewing Company Downingtown\, 420 Acorn Lane\, Downingtown\, PA\, 19335\, United States
CATEGORIES:For Job Seekers
END:VEVENT
BEGIN:VEVENT
DTSTART;TZID=UTC:20200625T150000
DTEND;TZID=UTC:20200625T180000
DTSTAMP:20260424T075334
CREATED:20200624T233208Z
LAST-MODIFIED:20200624T233812Z
UID:10000148-1593097200-1593108000@hireone.ccedcpa.com
SUMMARY:June 25\, 2020 - Victory Brewing Co. On-site Interviews - 3-6pm
DESCRIPTION:Victory Brewing is hiring Packing Jobs and is holding on-site interviews on June 25 from 3-6pm at their Downingtown location\, 420 Acorn Lane\, Downingtown\, PA 19335. \nRegister for your interview time slot by emailing HR@artbrewventures.com \nFor more information on other open roles\, go to www.victorybeer.com/employment
URL:https://hireone.ccedcpa.com/event/june-25-2020-victory-brewing-co-on-site-interviews-3-6pm/
LOCATION:Victory Brewing Company Downingtown\, 420 Acorn Lane\, Downingtown\, PA\, 19335\, United States
CATEGORIES:For Job Seekers
END:VEVENT
END:VCALENDAR