BEGIN:VCALENDAR
VERSION:2.0
PRODID:-//Hire One of Chester County, PA - ECPv6.15.20//NONSGML v1.0//EN
CALSCALE:GREGORIAN
METHOD:PUBLISH
X-ORIGINAL-URL:https://hireone.ccedcpa.com
X-WR-CALDESC:Events for Hire One of Chester County, PA
REFRESH-INTERVAL;VALUE=DURATION:PT1H
X-Robots-Tag:noindex
X-PUBLISHED-TTL:PT1H
BEGIN:VTIMEZONE
TZID:UTC
BEGIN:STANDARD
TZOFFSETFROM:+0000
TZOFFSETTO:+0000
TZNAME:UTC
DTSTART:20180101T000000
END:STANDARD
END:VTIMEZONE
BEGIN:VEVENT
DTSTART;TZID=UTC:20190807T100000
DTEND;TZID=UTC:20190807T140000
DTSTAMP:20260424T092528
CREATED:20190730T184733Z
LAST-MODIFIED:20190730T184733Z
UID:10000134-1565172000-1565186400@hireone.ccedcpa.com
SUMMARY:Victory Brewing Company's Community Open House in Parkesburg\, PA
DESCRIPTION:Victory’s Community Open House is Next Week! \nOn Wednesday\, August 7th from 10:00AM-2:00PM there is a Victory Open House! Employees are eager to meet you and discuss career opportunities at their facilities. They also have some of our fellow local business owners coming to do the same\, including the local Police Department and Schiffer Publishing. \nPlease email mtaylor@artbrewventures.com if you plan to attend.  The more Victory can be prepared\, the better. Please spread the word! \nThe event will take place at their large production facility: \nVictory Brewing Company \n3127 Lower Valley Road \nParkesburg\, PA 19365
URL:https://hireone.ccedcpa.com/event/victory-brewing-companys-community-open-house-in-parkesburg-pa/
LOCATION:Victory Brewing Company Parkesburg\, 3127 Lower Valley Road\, Parkesburg\, PA\, 19365\, United States
CATEGORIES:For Job Seekers
END:VEVENT
END:VCALENDAR